BEGIN:VCALENDAR
VERSION:2.0
PRODID:-//ChamberMaster//Event Calendar 2.0//EN
METHOD:PUBLISH
X-PUBLISHED-TTL:P3D
REFRESH-INTERVAL:P3D
CALSCALE:GREGORIAN
BEGIN:VEVENT
DTSTART:20191103T230000Z
DTEND:20191104T030000Z
X-MICROSOFT-CDO-ALLDAYEVENT:FALSE
SUMMARY:Aces & Races Gala
DESCRIPTION:We invite community members\, athletes and business owners to come our share a meal\, network\, watch the horse races and help raise much needed funds to send kids in the Ottawa Region to Diabetes Camp! \nEach year there are around 60 kids that require subsidy to attend Diabetes Camp and based on this number there is approximately $162\,000 of subsidy needed in our region.\n\nLiving with type 1 diabetes is a lifelong balancing act. To lead a healthy life with type 1 diabetes\, children and youth are tasked with finger pricks\, needle sticks\, drawing blood\, insulin injections\, pump site insertions\, and counting carbs\, every day for the rest of their lives.
X-ALT-DESC;FMTTYPE=text/html:<p><strong>We invite community members\, athletes and business owners to come our share a meal\, network\, watch the horse races and help raise much needed funds to send kids in the Ottawa Region to Diabetes Camp!&nbsp\;</strong></p>\nEach year there are around 60 kids that require subsidy to attend Diabetes Camp and based on this number there is approximately $162\,000 of subsidy needed in our region.\n\n<p>Living with type 1 diabetes is a lifelong balancing act. To lead a healthy life with type 1 diabetes\, children and youth are tasked with finger pricks\, needle sticks\, drawing blood\, insulin injections\, pump site insertions\, and counting carbs\, every day for the rest of their lives.&nbsp\;</p>\n
LOCATION:Rideau Carleton Raceway 4837 Albion Rd\, Gloucester\, ON K1X 1A3
UID:e.3330.1101
SEQUENCE:3
DTSTAMP:20260420T055325Z
URL:https://business.ottawabot.ca/events/details/aces-races-gala-1101
END:VEVENT

END:VCALENDAR
