BEGIN:VCALENDAR
VERSION:2.0
PRODID:-//ChamberMaster//Event Calendar 2.0//EN
METHOD:PUBLISH
X-PUBLISHED-TTL:P3D
REFRESH-INTERVAL:P3D
CALSCALE:GREGORIAN
BEGIN:VEVENT
DTSTART:20200210T220000Z
DTEND:20200211T000000Z
X-MICROSOFT-CDO-ALLDAYEVENT:FALSE
SUMMARY:Ambassador Corps Info Session
DESCRIPTION:Ottawa Board of Trade Ambassadors are important members whose role is to welcome\, orient and mentor new members and help them maximize their membership.  \n\n\n\nIf you have been looking for an opportunity to serve the Ottawa business community and enjoy meeting and getting to know new people\, then you need to join us for this info session.
X-ALT-DESC;FMTTYPE=text/html:<font color="#000000"><span style="font-size: 14px\;">Ottawa Board of Trade Ambassadors are important members whose role is to welcome\, orient and mentor new members and help them maximize their&nbsp\;membership.&nbsp\;&nbsp\;<br />\n<br />\nIf you have been looking for an opportunity to serve the Ottawa business community and enjoy meeting and getting to know new people\, then you need to join us for this info session.</span></font>
LOCATION:Clocktower Brew Pub 418 Richmond Road Light refreshments will be served. Cash bar.
UID:e.3330.1612
SEQUENCE:3
DTSTAMP:20260424T182745Z
URL:https://business.ottawabot.ca/events/details/ambassador-corps-info-session-1612
END:VEVENT

END:VCALENDAR
