BEGIN:VCALENDAR
VERSION:2.0
PRODID:-//ChamberMaster//Event Calendar 2.0//EN
METHOD:PUBLISH
X-PUBLISHED-TTL:P3D
REFRESH-INTERVAL:P3D
CALSCALE:GREGORIAN
BEGIN:VEVENT
DTSTART:20201114T133000Z
DTEND:20201114T170000Z
X-MICROSOFT-CDO-ALLDAYEVENT:FALSE
SUMMARY:APICS CSCP (Certified Supply Chain Professional) Online Course
DESCRIPTION:Please Note: This online course is broken up into multiple classes. It will run over the course of 9 weeks: Saturday mornings (3.5 hrs) and 2 weekday evenings (2.0 hrs each). By registering\, you are signing up for the entire session. Visit our website for more information.\nBecome A Master Of Global Supply Chains\n\nThe APICS CSCP certification arms you with end-to-end supply chain knowledge to help you and your business remain competitive in today's economy. Boost your confidence in supply chain management and master the skills needed to bring new ideas to suppliers\, plants\, and distributors while improving customer satisfaction. With a CSCP certification\, you'll gain valuable experience to effectively manage global supply chain efforts and implement essential concepts and strategies to improve day-to-day operations.\n\n \n\nExpert Guidance and Peer Discussion From Our Instructor-Led Course Will Help You Reach Your Goals \n\n\n	\n	Get started with pre-class assignments and interactive study tools.\n	\n	\n	Led by experienced instructors in a live online classroom format.\n	\n	\n	Structured environment ensures that you stay on track with your studies.\n	\n	\n	Peer discussions and real-world experiences help reinforce learning materials.\n	\n	\n	Tuition reimbursement may be available from your employer or through government funding (ask us about the Canada-Ontario Job Grant).\n	\n\n\n  \n\nOur CSCP Classes Start Soon\n\nOur CSCP classes are starting on Saturday\, November 14\, 2020. Our CSCP course will be led by an experienced instructor in a live online classroom format. Our APICS CSCP course provides a structured environment that ensures that you stay on track with your studies. It will keep you engaged with online multimedia content\, interactive study tools along with valuable peer discussion and networking. \n\nStarting Saturday\, November 14th and ending on Saturday\, January 16th\, this session will run over the course of 9 weeks: Saturday mornings (3.5 hrs) and 2 weekday evenings (2 hrs each). There will be a short break between December 24th and January 8th for the holidays.\n\n \n\nThis Course Will Cover End-to-End Supply Chain Concepts\n\n\n	\n	Aligning supply chain processes and capabilities with strategic business goals\n	\n	\n	Understanding organizational roles and infrastructures in the supply chain\n	\n	\n	Managing material\, information and financial flows\n	\n	\n	Understanding and managing internal and external organizational relationships\n	\n	\n	Selecting and leveraging technologies to enable effective process management\n	\n\n \n\nOur CSCP Instructor\n\nYanick Lavoie\, BAB (eSCM)\, CPIM\, CSCP\, CLTD\, SCOR-P is the former Director of Global Integrated Business Planning (IBP) at Canopy Growth Corporation\, the world's largest cannabis company. He steers supply chain professionals in applying best in class planning processes and leveraging leading-edge technology such as Kinaxis' RapidResponse. Before joining Canopy Growth in 2018\, he was a solution consultant at Kinaxis\, a manager in EY's supply chain management advisory team\, and a small business owner. His work experience coupled with an undergraduate degree in supply chain management and expertise in the APICS body of knowledge enables him to provide a valuable (and enjoyable) learning experience.\n\n \n\nFunding Is Available Through The Canada-Ontario Job Grant Program\n\nThe Canada-Ontario Job Grant (COJG) provides direct financial support to individual employers or employer consortia who wish to purchase training for their employees. It is available to small\, medium and large businesses with a plan to deliver short-term training to existing and new employees. Learn more here.\n\n\n\nRegistration cut-off is 1 week in advance of the class - Friday\, November 6\, 2020.\n\n \n\nMore Information?\n\nPlease contact us or email VP.Education@apicsottawa.org
X-ALT-DESC;FMTTYPE=text/html:<em>Please Note: This online course is broken up into multiple classes. It&nbsp\;will run over the course of 9 weeks: Saturday mornings (3.5 hrs) and 2 weekday evenings (2.0 hrs each).&nbsp\;By registering\, you are signing up for the entire session.&nbsp\;Visit our </em><a href="https://apicsottawa.org/CSCP" rel="nofollow noopener noreferrer" target="_blank"><em>website </em></a><em>for more information.</em>\n<hr /><strong><span style="color:rgb(218\, 26\, 50)\; font-family:inherit\; font-size:22.5px">Become A Master Of Global Supply Chains</span></strong>\n\n<p><span style="font-family:inherit">The APICS CSCP certification arms you with end-to-end supply chain knowledge to help you and your business remain competitive in today&rsquo\;s economy. Boost your confidence in supply chain management and master the skills needed to bring new ideas to suppliers\, plants\, and distributors while improving customer satisfaction.&nbsp\;</span>With a CSCP certification\, you&rsquo\;ll gain valuable experience to effectively manage global supply chain efforts and implement essential concepts and strategies to improve day-to-day operations.</p>\n\n<p>&nbsp\;</p>\n\n<h4><span style="color:rgb(218\, 26\, 50)\; font-family:inherit"><strong>Expert Guidance and Peer Discussion From Our Instructor-Led Course Will Help You Reach Your Goals&nbsp\;</strong></span></h4>\n\n<ul>\n	<li>\n	<p><span style="font-family:inherit">Get started with pre-class assignments and interactive study tools.</span></p>\n	</li>\n	<li>\n	<p><span style="font-family:inherit">Led by experienced instructors in a live online classroom format.</span></p>\n	</li>\n	<li>\n	<p><span style="font-family:inherit">Structured&nbsp\;environment ensures that you stay on track with your studies.</span></p>\n	</li>\n	<li>\n	<p><span style="font-family:inherit">Peer discussions and real-world experiences help reinforce learning materials.</span></p>\n	</li>\n	<li>\n	<p><span style="font-family:inherit">Tuition reimbursement may be available from your employer or through government funding (<a href="https://apicsottawa.org/form.php?form_id=15&amp\;c=1" rel="noopener" style="box-sizing: border-box\; background-color: transparent\; color: rgb(0\, 163\, 224)\; margin: 0px\; padding: 0px\; border: 0px\; outline: 0px\; font-style: inherit\; font-size: 1em\; font-family: inherit\; vertical-align: baseline\; text-align: inherit\; word-break: break-word\;" target="_blank">ask us</a>&nbsp\;about the Canada-Ontario Job Grant).</span></p>\n	</li>\n</ul>\n\n<div><span style="font-family:inherit">&nbsp\;&nbsp\;</span></div>\n\n<h4><strong><span style="color:rgb(218\, 26\, 50)\; font-family:inherit">Our CSCP Classes Start Soon</span></strong></h4>\n\n<p><span style="font-family:inherit">Our CSCP classes are starting on Saturday\, November 14\, 2020.&nbsp\;Our CSCP course will be led by an experienced instructor in a live online classroom format.&nbsp\;Our APICS CSCP course provides a structured&nbsp\;environment that ensures that you stay on track with your studies. It will keep you engaged with&nbsp\;online multimedia content\, interactive study tools along with valuable peer discussion and networking.&nbsp\;</span></p>\n\n<p><span style="font-family:inherit">Starting Saturday\, November 14th and ending on Saturday\, January 16th\, this session will run over the course of 9 weeks: Saturday mornings (3.5 hrs) and 2 weekday evenings (2 hrs each). There will be a short break between December 24th and January 8th for the holidays.</span><br />\n&nbsp\;</p>\n\n<h4><strong><span style="color:rgb(218\, 26\, 50)\; font-family:inherit">This Course Will Cover End-to-End Supply Chain Concepts</span></strong></h4>\n\n<ul>\n	<li>\n	<div>Aligning supply chain processes and capabilities with strategic business goals</div>\n	</li>\n	<li>\n	<div>Understanding organizational roles and infrastructures in the supply chain</div>\n	</li>\n	<li>\n	<div>Managing material\, information and financial flows</div>\n	</li>\n	<li>\n	<div>Understanding and managing internal and external organizational relationships</div>\n	</li>\n	<li>\n	<div>Selecting and leveraging technologies to enable effective process management</div>\n	</li>\n</ul>\n&nbsp\;\n\n<h4><strong><span style="color:rgb(218\, 26\, 50)\; font-family:inherit">Our CSCP Instructor</span></strong></h4>\n\n<div><strong>Yanick Lavoie\, BAB (eSCM)\, CPIM\, CSCP\, CLTD\, SCOR-P&nbsp\;</strong>is the former Director of Global Integrated Business Planning (IBP) at Canopy Growth Corporation\, the world&#39\;s largest cannabis company. He steers supply chain professionals in applying best in class planning processes and leveraging leading-edge technology such as Kinaxis&#39\; RapidResponse. Before joining Canopy Growth in 2018\, he was a solution consultant at Kinaxis\, a manager in EY&#39\;s supply chain management advisory team\, and a small business owner. His work experience&nbsp\;coupled with an undergraduate degree in supply chain management and expertise in the APICS body of knowledge enables him to provide a valuable (and enjoyable) learning experience.</div>\n\n<div>&nbsp\;</div>\n\n<h4><strong><span style="color:rgb(218\, 26\, 50)\; font-family:inherit">Funding Is Available Through The&nbsp\;Canada-Ontario Job Grant Program</span></strong></h4>\n\n<p><span style="font-family:inherit">The Canada-Ontario Job Grant (COJG) provides direct financial support to individual employers or employer consortia who wish to purchase training for their employees. It is available to small\, medium and large businesses with a plan to deliver short-term training to existing and new employees. Learn more&nbsp\;<a href="http://tcu.gov.on.ca/eng/eopg/cojg/" rel="noopener" style="box-sizing: border-box\; background-color: transparent\; color: rgb(0\, 163\, 224)\; margin: 0px\; padding: 0px\; border: 0px\; outline: 0px\; font-style: inherit\; font-size: 1em\; font-family: inherit\; vertical-align: baseline\; text-align: inherit\; word-break: break-word\;" target="_blank">here</a>.</span></p>\n\n<p><br />\n<span style="color:rgb(218\, 26\, 50)\; font-family:inherit"><strong>Registration cut-off is 1 week in advance of the class - Friday\, November 6\, 2020.</strong></span></p>\n\n<div>&nbsp\;</div>\n\n<h4><span style="color:rgb(218\, 26\, 50)\; font-family:inherit"><strong>More Information?</strong></span></h4>\n\n<div><span style="font-family:inherit">Please&nbsp\;<a href="https://apicsottawa.org/form.php?form_id=15&amp\;c=1" style="box-sizing: border-box\; background-color: transparent\; color: rgb(0\, 163\, 224)\; margin: 0px\; padding: 0px\; border: 0px\; outline: 0px\; font-style: inherit\; font-size: 1em\; font-family: inherit\; vertical-align: baseline\; text-align: inherit\;">contact us</a>&nbsp\;or email&nbsp\;<a href="mailto:VP.Education@apicsottawa.org?subject=CSCP%20Course%20starting%20Nov.%2014%2C%202020" rel="noopener" style="box-sizing: border-box\; background-color: transparent\; color: rgb(0\, 163\, 224)\; margin: 0px\; padding: 0px\; border: 0px\; outline: 0px\; font-style: inherit\; font-size: 1em\; font-family: inherit\; vertical-align: baseline\; text-align: inherit\;" target="_blank">VP.Education@apicsottawa.org</a></span></div>\n
LOCATION:Online webinar. A link will be emailed prior to the event.
UID:e.3330.2396
SEQUENCE:3
DTSTAMP:20260421T201055Z
URL:https://business.ottawabot.ca/events/details/apics-cscp-certified-supply-chain-professional-online-course-2396
END:VEVENT

END:VCALENDAR
