BEGIN:VCALENDAR
VERSION:2.0
PRODID:-//ChamberMaster//Event Calendar 2.0//EN
METHOD:PUBLISH
X-PUBLISHED-TTL:P3D
REFRESH-INTERVAL:P3D
CALSCALE:GREGORIAN
BEGIN:VEVENT
DTSTART:20210923T140000Z
DTEND:20210923T153000Z
X-MICROSOFT-CDO-ALLDAYEVENT:FALSE
SUMMARY:Apprenticeship Workshop
DESCRIPTION:Are you interested in becoming an apprentice in one of over 150 skilled trades in Ontario? Join us this month to learn about the steps you need to take in order to enter the trades\, what to expect\, and how to prepare for your future as a skilled apprentice!
X-ALT-DESC;FMTTYPE=text/html:<span style="font-size:14px\;"><span style="font-family:tahoma\;"><span style="color: rgb(85\, 85\, 85)\;">Are you interested in becoming an apprentice in one of over 150 skilled trades in Ontario? Join us this month to learn about the steps you need to take in order to enter the trades\, what to expect\, and how to prepare for your future as a skilled apprentice!</span></span></span>
LOCATION:Zoom Webinar
UID:e.3330.2596
SEQUENCE:3
DTSTAMP:20260423T174821Z
URL:https://business.ottawabot.ca/events/details/apprenticeship-workshop-2596
END:VEVENT

END:VCALENDAR
