BEGIN:VCALENDAR
VERSION:2.0
PRODID:-//ChamberMaster//Event Calendar 2.0//EN
METHOD:PUBLISH
X-PUBLISHED-TTL:P3D
REFRESH-INTERVAL:P3D
CALSCALE:GREGORIAN
BEGIN:VEVENT
DTSTART:20241120T170000Z
DTEND:20241120T183000Z
X-MICROSOFT-CDO-ALLDAYEVENT:FALSE
SUMMARY:Bookkeepers & Accountants: Stay Alert! Navigating Scams and Cybersecurity Threats in Your Profession
DESCRIPTION:Hi Bookkeepers and Accountants!\n\n\n\nWe are excited to share an upcoming online seminar exclusively for bookkeepers\, accountants\, CPAs\, and CFOs!\n\n\n\nSeminar Details:\n\n- Topic: Scam Prevention & Cybersecurity for Financial Professionals\n\n- Cost: Normal Price: $95 - This month Only: 45! Free for bookkeepers and Accountants!\n\n\n\nJoin an online seminar focused on scam prevention and cybersecurity tailored for bookkeepers and accountants. This session will be free of software\, hardware\, or service marketing. I'll share practical solutions that can be implemented in your organization to mitigate the risk of scams and cyber attacks. These strategies stem from eight cases I examined in 2023\, which resulted in losses exceeding $2 million. \n\n\n\nPlease note: Attendance is limited to two individuals per organization to ensure an engaging experience.\n\n\n\nFor those curious about the seminar's effectiveness\, you can find reviews from past sessions by searching "Koza IT Services" on Google.\n\n\n\nDon't miss this opportunity to safeguard your practice!\n\n \nRegister now for special price - space are limited!\nFeel free to reach out if you have any questions. Looking forward to seeing you there!\n\n\n\nKoza Technology Consulting Inc.
X-ALT-DESC;FMTTYPE=text/html:Hi Bookkeepers&nbsp\;and Accountants!<br />\n<br />\nWe are excited to share an upcoming online seminar exclusively for bookkeepers\, accountants\, CPAs\, and CFOs!<br />\n<br />\n<strong>Seminar Details:</strong><br />\n- Topic: Scam Prevention &amp\; Cybersecurity for Financial Professionals<br />\n- Cost:&nbsp\;Normal Price: $95 - This month Only: 45<strong>! Free for bookkeepers and Accountants!</strong><br />\n<br />\nJoin an online seminar focused on scam prevention and cybersecurity tailored for bookkeepers and accountants. This session will be free of software\, hardware\, or service marketing. I&#39\;ll share practical solutions that can be implemented in your organization to mitigate the risk of scams and cyber attacks. These strategies stem from eight cases I examined in 2023\, which resulted in losses exceeding $2 million.&nbsp\;<br />\n<br />\n<strong>Please note</strong>: Attendance is limited to two individuals per organization to ensure an engaging experience.<br />\n<br />\nFor those curious about the seminar&rsquo\;s effectiveness\, you can find reviews from past sessions by searching &quot\;Koza IT Services&quot\; on <a href="https://www.google.com/maps/place/Koza+IT+Cyber+Security+Services/@45.3120716\,-75.897865\,17z/data=!3m1!5s0x4ccdff8cde1f4743:0x90f3b74eb5a76736!4m8!3m7!1s0x4cce0454745a255d:0x18c778ffcb5a8038!8m2!3d45.3120716!4d-75.8952901!9m1!1b1!16s%2Fg%2F1hg518hmw?entry=ttu&amp\;g_ep=EgoyMDI0MDkxOC4xIKXMDSoASAFQAw%3D%3D">Google</a>.<br />\n<br />\nDon&rsquo\;t miss this opportunity to safeguard your practice!<br />\n&nbsp\;\n<div style="text-align:center"><a href="https://link.receptyv.ca/widget/group/HDOc25HTmvZruRsMRzL6" style="text-align: center\;">Register now for special price - space are limited!</a></div>\nFeel free to reach out if you have any questions. Looking forward to seeing you there!<br />\n<br />\nKoza Technology Consulting Inc.
LOCATION:Online via Zoom! Link will be sent after registration
UID:e.3330.4604
SEQUENCE:3
DTSTAMP:20260419T211935Z
URL:https://business.ottawabot.ca/events/details/bookkeepers-accountants-stay-alert-navigating-scams-and-cybersecurity-threats-in-your-profession-11-20-2024-4604
END:VEVENT

END:VCALENDAR
