BEGIN:VCALENDAR
VERSION:2.0
PRODID:-//ChamberMaster//Event Calendar 2.0//EN
METHOD:PUBLISH
X-PUBLISHED-TTL:P3D
REFRESH-INTERVAL:P3D
CALSCALE:GREGORIAN
BEGIN:VEVENT
DTSTART:20201117T160000Z
DTEND:20201117T170000Z
X-MICROSOFT-CDO-ALLDAYEVENT:FALSE
SUMMARY:Boost Your Business - Program Info Session
DESCRIPTION:The Ottawa Board of Trade in partnership with the\, Toronto Region Board of Trade\, World Trade Centre Toronto and Invest Ottawa is hosting a free information session on three exceptional programs available to small businesses and entrepreneurs on Tuesday\, November 17th at 11:00 a.m.\n\n\n\nJoin us as we hear from Paula Hopkins\, Invest Ottawa\, Vincent Custode\, Toronto Region Board of Trade and Agathe Damour\, World Trade Centre Toronto as they share insights into FREE available programs and resources to help boost your business. \n\n\n\nPaula Hopkins - Digital Main Street\n\n\n\nDigital Main Streets knows every business is different. Maybe you need to build a website. Create promo videos or take high-end photos for Instagram sales. Attract new customers with digital marketing campaigns? All of the above? \n\n\n\nThis program is designed for all kinds of local businesses\, from owners of retails stores\, plumbing companies\, auto-mechanic shops\, art studios and restaurants to home-based businesses and more.\n\n\n\nVincent Custode - Recovery Activation Program \n\n\n\nRAP can help you leverage technology to:\n\n- Attract new customers\n\n- Improve supply-chain efficiencies \n\n- Manage your workforce virtually\n\n- Streamline costs\n\n\n\nAgathe Damour - Trade Accelerator Program\n\n\n\nTAP is an award-winning program designed to help small and medium sized enterprises gain knowledge and the necessary network of contact to unleash their export potential. Through a series of in-depth workshop sessions with leading trade and industry experts\, SME owner and executives learn to overcome export barriers and reach new markets faster. \n\n\n\nIf you would like to learn more about these exciting and interactive programs\, we invited you to attend an FREE information session.
X-ALT-DESC;FMTTYPE=text/html:<br />\n<span style="font-size:14px\;"><span style="font-family:verdana\;">The Ottawa Board of Trade in partnership with the\, Toronto Region Board of Trade\, World Trade Centre Toronto and Invest Ottawa is hosting a free information session on three exceptional programs available to small businesses and entrepreneurs on Tuesday\, November 17th at 11:00 a.m.<br />\n<br />\nJoin us as we hear from Paula Hopkins\, Invest Ottawa\, Vincent Custode\, Toronto Region Board of Trade and Agathe Damour\, World Trade Centre Toronto as they share insights into FREE available programs and resources to help boost your business.&nbsp\;<br />\n<br />\n<strong>Paula Hopkins</strong> - <a href="https://www.investottawa.ca/digital-main-street/#about">Digital Main Street</a><br />\n<br />\nDigital Main Streets knows every business is different. Maybe you need to build a website. Create promo videos or take high-end photos for Instagram sales. Attract new customers with digital marketing campaigns? All of the above?&nbsp\;<br />\n<br />\nThis program is designed for all kinds of local businesses\, from owners of retails stores\, plumbing companies\, auto-mechanic shops\, art studios and restaurants to home-based businesses and more.</span></span><br />\n<br />\n<span style="font-size:14px\;"><span style="font-family:verdana\;"><strong>Vincent Custode</strong> - <a href="https://wtctoronto.com/rap/">Recovery Activation Program</a>&nbsp\;</span></span><br />\n<br />\n<span style="font-family: verdana\; font-size: 14px\;"><strong>RAP</strong> can help you leverage technology to:</span><br style="font-family: verdana\; font-size: 14px\;" />\n<span style="font-family: verdana\; font-size: 14px\;">- Attract new customers</span><br style="font-family: verdana\; font-size: 14px\;" />\n<span style="font-family: verdana\; font-size: 14px\;">- Improve supply-chain efficiencies&nbsp\;</span><br style="font-family: verdana\; font-size: 14px\;" />\n<span style="font-family: verdana\; font-size: 14px\;">- Manage your workforce virtually</span><br style="font-family: verdana\; font-size: 14px\;" />\n<span style="font-family: verdana\; font-size: 14px\;">- Streamline costs</span><br />\n<br />\n<span style="font-size:14px\;"><span style="font-family:verdana\;"><strong>Agathe Damour</strong> - <a href="https://www.ottawabot.ca/tap-program/">Trade Accelerator Program</a><br />\n<br />\n<strong>TAP </strong>is an award-winning program designed to help small and medium sized enterprises gain knowledge and the necessary network of contact to unleash their export potential. Through a series of in-depth workshop sessions with leading trade and industry experts\, SME owner and executives learn to overcome export barriers and reach new markets faster.&nbsp\;<br />\n<br />\nIf you would like to learn more about these exciting and interactive programs\, we invited you to attend an FREE information session.&nbsp\;</span></span>\n<div style="margin-bottom:0cm\;margin-bottom:.0001pt\;">\n<p style="margin: 0px\; padding: 10px 0px 0px\; color: rgb(111\, 114\, 135)\; font-size: 16px\; line-height: 1.5rem\; font-family: &quot\;Neue Plak&quot\;\, -apple-system\, BlinkMacSystemFont\, Roboto\, &quot\;Helvetica Neue&quot\;\, Helvetica\, Tahoma\, Arial\, sans-serif\; letter-spacing: 0.5px\;">&nbsp\;</p>\n</div>\n
LOCATION:Virtual - Zoom link to be provided
UID:e.3330.2405
SEQUENCE:3
DTSTAMP:20260421T213432Z
URL:https://business.ottawabot.ca/events/details/boost-your-business-program-info-session-2405
END:VEVENT

END:VCALENDAR
