BEGIN:VCALENDAR
VERSION:2.0
PRODID:-//ChamberMaster//Event Calendar 2.0//EN
METHOD:PUBLISH
X-PUBLISHED-TTL:P3D
REFRESH-INTERVAL:P3D
CALSCALE:GREGORIAN
BEGIN:VEVENT
DTSTART:20241127T220000Z
DTEND:20241128T000000Z
X-MICROSOFT-CDO-ALLDAYEVENT:FALSE
SUMMARY:Business After 5: Carleton University's Sprott School of Business & The Innovation Hub
DESCRIPTION:Networking in style!\n\n\n\nNovember's Business After 5 heads up the canal to Carleton University's Sprott School of Business. Join the Sprott Innovation Hub for complimentary hors d'oeuvres and learn more about how you can engage Sprott in helping solve challenges facing you as Ottawa business owners.   There are also tons of interesting new academic and professional development opportunities to explore.\n\n\n\nPlease note that photographs and footage will be taken throughout the event. By purchasing a ticket you give permission for the Ottawa Board of Trade to use photograph and other media on promotional material and publications\, for which it may be suitable.\n\n\n\nSponsorship opportunities available! Email sharon.diamond@ottawabot.ca for more information.
X-ALT-DESC;FMTTYPE=text/html:<span style="font-family:verdana\;"><span style="font-size:14px\;"><span style="color:#000000\;"><em><strong>Networking in style!</strong></em></span></span><br />\n<br />\n<span style="font-size:11.0pt\;">November&rsquo\;s Business After 5 heads up the canal&nbsp\;to Carleton University&rsquo\;s Sprott School of Business. Join the Sprott Innovation Hub for complimentary hors d&rsquo\;oeuvres and learn more about how you can engage Sprott in helping solve challenges facing you as Ottawa business owners.&nbsp\; &nbsp\;There are also tons of interesting new academic and professional development opportunities to explore.</span></span><br />\n<br />\n<span style="font-family:verdana\;"><span class="ui-provider a b c d e f g h i j k l m n o p q r s t u v w x y z ab ac ae af ag ah ai aj ak" dir="ltr"><span style="font-size:14px\;"><span style="color:#0000FF\;">Please note that photographs and footage will be taken throughout the event.&nbsp\;</span>By purchasing a ticket&nbsp\;you&nbsp\;give permission for the Ottawa Board of Trade to use photograph and other media on promotional</span> <span style="font-size:14px\;">material and publications\, for which it may be suitable.</span></span><br />\n<br />\n<b style="font-size: 14px\;">Sponsorship opportunities available!&nbsp\;</b><span style="font-size: 14px\;">Email sharon.diamond@ottawabot.ca for more information.</span></span>
LOCATION:Hosted By: Carleton University's Sprott School of Business & The Innovation Hub 1125 Colonel By Drive - 2020 Nicol Building Ottawa\, ON
UID:e.3330.4601
SEQUENCE:3
DTSTAMP:20260419T185751Z
URL:https://business.ottawabot.ca/events/details/business-after-5-carleton-university-s-sprott-school-of-business-the-innovation-hub-4601
END:VEVENT

END:VCALENDAR
