BEGIN:VCALENDAR
VERSION:2.0
PRODID:-//ChamberMaster//Event Calendar 2.0//EN
METHOD:PUBLISH
X-PUBLISHED-TTL:P3D
REFRESH-INTERVAL:P3D
CALSCALE:GREGORIAN
BEGIN:VEVENT
DTSTART:20200819T143000Z
DTEND:20200820T033000Z
X-MICROSOFT-CDO-ALLDAYEVENT:FALSE
SUMMARY:Business Community Fireside Chat with Minister Ng
DESCRIPTION:Join Hon. Mary Ng - Minister of Small Business\, Export Promotion and International Trade\, Rachel Bendayan - Parliamentary Secretary to the Minister of Small Business\, Export Promotion and International Trade and\n\nmembers of the NCR Caucus for a discussion focusing on business relief gaps and priorities for recovery.\n\n \n\nPlease send your questions in advance to StrongerTogether@ottawabot.ca.\n\n* The Zoom call link will be sent to registrants prior to the virtual event.
X-ALT-DESC;FMTTYPE=text/html:<div class="ewa-rteLine" style="line-height: inherit\; height: inherit\; color: rgb(68\, 68\, 68)\; font-family: Calibri\, sans-serif\, &quot\;Mongolian Baiti&quot\;\, &quot\;Microsoft Yi Baiti&quot\;\, &quot\;Javanese Text&quot\;\, &quot\;Yu Gothic&quot\;\; font-size: 14.6667px\; white-space: pre\;"><span style="color:#000000\;"><span style="font-size:14px\;"><span style="font-family:arial\;"><span style="background:white\;">Join Hon. <strong>Mary Ng</strong> -</span><span style="font-variant-ligatures:normal\;font-variant-caps:normal\;orphans:2\;text-align:start\;widows:2\;-webkit-text-stroke-width:0px\;text-decoration-style:initial\;word-spacing:0px\;"> <em>Minister of Small Business\, Export Promotion and International Trade</em></span><span style="font-variant-ligatures:normal\;font-variant-caps:normal\;orphans:2\;text-align:start\;widows:2\;-webkit-text-stroke-width:0px\;text-decoration-style:initial\;float:none\;word-spacing:0px\;">\, <strong>Rachel Bendayan</strong> - </span><em><span style="font-variant-ligatures:normal\;font-variant-caps:normal\;orphans:2\;text-align:start\;widows:2\;-webkit-text-stroke-width:0px\;text-decoration-style:initial\;word-spacing:0px\;">Parliamentary Secretary </span><span style="font-variant-ligatures:normal\;font-variant-caps:normal\;orphans:2\;text-align:start\;widows:2\;-webkit-text-stroke-width:0px\;text-decoration-style:initial\;word-spacing:0px\;">to the Minister of Small Business\, Export Promotion and International Trade</span> </em><span style="font-variant-ligatures:normal\;font-variant-caps:normal\;orphans:2\;text-align:start\;widows:2\;-webkit-text-stroke-width:0px\;text-decoration-style:initial\;float:none\;word-spacing:0px\;">and<br />\n<strong>members of the NCR Caucus</strong> for a discussion focusing on business relief gaps and priorities for recovery.</span><br style="font-variant-ligatures:normal\;font-variant-caps:normal\;orphans:2\;text-align:start\;widows:2\;-webkit-text-stroke-width:0px\;text-decoration-style:initial\;word-spacing:0px\;" />\n&nbsp\;<br style="font-variant-ligatures:normal\;font-variant-caps:normal\;orphans:2\;text-align:start\;widows:2\;-webkit-text-stroke-width:0px\;text-decoration-style:initial\;word-spacing:0px\;" />\n<strong><span style="background:white\;"><span style="font-variant-ligatures:normal\;font-variant-caps:normal\;orphans:2\;text-align:start\;widows:2\;-webkit-text-stroke-width:0px\;text-decoration-style:initial\;float:none\;word-spacing:0px\;">Please send your questions in advance to StrongerTogether@ottawabot.ca.</span></span></strong><br style="font-variant-ligatures:normal\;font-variant-caps:normal\;orphans:2\;text-align:start\;widows:2\;-webkit-text-stroke-width:0px\;text-decoration-style:initial\;word-spacing:0px\;" />\n<em style="font-variant-ligatures:normal\;font-variant-caps:normal\;orphans:2\;text-align:start\;widows:2\;-webkit-text-stroke-width:0px\;text-decoration-style:initial\;word-spacing:0px\;"><span style="background:white\;">* The Zoom call link will be sent to registrants prior to the virtual event.</span></em></span></span></span></div>\n
LOCATION:
UID:e.3330.1815
SEQUENCE:3
DTSTAMP:20260424T103623Z
URL:https://business.ottawabot.ca/events/details/business-community-fireside-chat-with-minister-ng-1815
END:VEVENT

END:VCALENDAR
