BEGIN:VCALENDAR
VERSION:2.0
PRODID:-//ChamberMaster//Event Calendar 2.0//EN
METHOD:PUBLISH
X-PUBLISHED-TTL:P3D
REFRESH-INTERVAL:P3D
CALSCALE:GREGORIAN
BEGIN:VEVENT
DTSTART:20200825T170000Z
DTEND:20200825T180000Z
X-MICROSOFT-CDO-ALLDAYEVENT:FALSE
SUMMARY:Business Reopening Workshop: Arts and Culture Facilities and Organizations
DESCRIPTION:Business Reopening Workshop: Arts and Culture Facilities and Organizations\n\n\n\nThe Ottawa Board of Trade has partnered with Ottawa Public Health\, the City of Ottawa and the Ottawa Coalition of Business Improvement Areas to bring you the Ottawa Public Health Business Reopening Workshops.\n\n \n\nThe Business Reopening Workshops are a series of interactive workshops divided by business sector.  Each workshop provides sector specific considerations for a safer re-opening\, covering off topics such as health and safety guidelines\, planning for physical distancing\, use of cloth masks and industry specific issues.\n\n\n\nArts and Culture Facilities and Organizations will be presented by Dr. Sarah Funnell\, Associate Medical Officer of Health\, Ottawa Public Health.
X-ALT-DESC;FMTTYPE=text/html:<span style="font-size:18px\;"><span style="font-family:tahoma\;">Business Reopening Workshop:</span></span> <span style="font-family:tahoma\;"><span style="font-size:18px\;"><span style="color:#262626\;">Arts and Culture Facilities and Organizations</span></span></span><br />\n<br />\n<span style="font-size:14px\;"><span style="font-family:tahoma\;">The Ottawa Board of Trade has partnered with Ottawa Public Health\, the City of Ottawa and the Ottawa Coalition of Business Improvement Areas to bring you the Ottawa Public Health Business Reopening Workshops.<br />\n&nbsp\;<br />\nThe Business Reopening Workshops are a series of interactive workshops divided by business sector.&nbsp\; Each workshop provides sector specific considerations for a safer re-opening\, covering off topics such as health and safety guidelines\, planning for physical distancing\, use of cloth masks and industry specific issues.<br />\n<br />\n<span style="color:#262626\;">Arts and Culture Facilities and Organizations</span> will be presented by&nbsp\;Dr. Sarah Funnell\, Associate Medical Officer of Health\, Ottawa Public Health.</span></span>
LOCATION:Webinar The webinar link will be distributed to registered attendees the morning of August 25 before 9:00 AM.
UID:e.3330.2235
SEQUENCE:3
DTSTAMP:20260421T125540Z
URL:https://business.ottawabot.ca/events/details/business-reopening-workshop-arts-and-culture-facilities-and-organizations-2235
END:VEVENT

END:VCALENDAR
