BEGIN:VCALENDAR
VERSION:2.0
PRODID:-//ChamberMaster//Event Calendar 2.0//EN
METHOD:PUBLISH
X-PUBLISHED-TTL:P3D
REFRESH-INTERVAL:P3D
CALSCALE:GREGORIAN
BEGIN:VEVENT
DTSTART:20200619T170000Z
DTEND:20200619T180000Z
X-MICROSOFT-CDO-ALLDAYEVENT:FALSE
SUMMARY:Business Reopening Workshop: Day Camps & Child Care
DESCRIPTION:This session is full. The Workshop is being recorded and the video will be hosted on the Ottawa Board of Trade website.  All of those who registered or are on the waiting list will receive an email notification when the recording is online.  Please proceed with your registration to receive the notification and link.\n\n\n\nBusiness Reopening Workshop: Day Camps & Child Care\n\n\n\nThe Ottawa Board of Trade has partnered with Ottawa Public Health\, the City of Ottawa and the Ottawa Coalition of Business Improvement Areas to bring you the Ottawa Public Health Business Reopening Workshops.\n\n \n\nThe Business Reopening Workshops are a series of interactive workshops divided by business sector.  Each workshop provides sector specific considerations for a safer re-opening\, covering off topics such as health and safety guidelines\, planning for physical distancing\, use of cloth masks and industry specific issues.\n\n\n\nDay Camps & Child Care will be presented by Dr. Brent Moloughney\, Associate Medical Officer of Health\, Ottawa Public Health and Jacqueline Chalifoux\, \, B.A.Sc.\, B.Sc.\, CPHI(C) Public Health Inspector\, Ottawa Public Health.
X-ALT-DESC;FMTTYPE=text/html:<span style="font-size:18px\;"><span style="font-family:tahoma\;"><font color="#ff0000">This session is full. The Workshop is being recorded and the video will be hosted on the Ottawa Board of Trade website.&nbsp\; All of those who registered or are on the waiting list will receive an email notification when the recording is online.&nbsp\; Please proceed with your registration to receive the notification and link.</font><br />\n<br />\nBusiness Reopening Workshop: Day Camps &amp\; Child Care</span></span><br />\n<br />\n<span style="font-family: tahoma\; font-size: 14px\;">The Ottawa Board of Trade has partnered with Ottawa Public Health\, the City of Ottawa and the Ottawa Coalition of Business Improvement Areas to bring you the Ottawa Public Health Business Reopening Workshops.</span><br style="font-family: tahoma\; font-size: 14px\;" />\n<span style="font-family: tahoma\; font-size: 14px\;">&nbsp\;</span><br style="font-family: tahoma\; font-size: 14px\;" />\n<span style="font-family: tahoma\; font-size: 14px\;">The Business Reopening Workshops are a series of interactive workshops divided by business sector.&nbsp\; Each workshop provides sector specific considerations for a safer re-opening\, covering off topics such as health and safety guidelines\, planning for physical distancing\, use of cloth masks and industry specific issues.</span><br style="font-family: tahoma\; font-size: 14px\;" />\n<br />\n<span style="font-size:14px\;"><span style="font-family:tahoma\;">Day Camps &amp\; Child Care will be presented by</span></span> <span style="font-size:14px\;"><span style="font-family:tahoma\;">Dr. Brent Moloughney\, Associate Medical Officer of Health\, Ottawa Public Health and&nbsp\;Jacqueline Chalifoux\, \, B.A.Sc.\, B.Sc.\, CPHI(C) Public Health Inspector\, Ottawa Public Health.</span></span><br />\n<br />\n&nbsp\;
LOCATION:Webinar The webinar link will be distributed to registered attendees the morning of June 19 before 9:00 AM.
UID:e.3330.1754
SEQUENCE:3
DTSTAMP:20260421T100545Z
URL:https://business.ottawabot.ca/events/details/business-reopening-workshop-day-camps-child-care-1754
END:VEVENT

END:VCALENDAR
