BEGIN:VCALENDAR
VERSION:2.0
PRODID:-//ChamberMaster//Event Calendar 2.0//EN
METHOD:PUBLISH
X-PUBLISHED-TTL:P3D
REFRESH-INTERVAL:P3D
CALSCALE:GREGORIAN
BEGIN:VEVENT
DTSTART:20200323T170000Z
DTEND:20200323T190000Z
X-MICROSOFT-CDO-ALLDAYEVENT:FALSE
SUMMARY:Canada's Free Trade Agreements
DESCRIPTION:Learn about Canada's Free Trade Agreements and how to benefit from them when trading goods\n\nNAFTA\, CETA with the European Union\, the Transpacific Partnership and others
X-ALT-DESC;FMTTYPE=text/html:Learn about Canada&#39\;s Free Trade Agreements and how to benefit from them when trading goods<br />\nNAFTA\, CETA with the European Union\, the Transpacific Partnership and others
LOCATION:Invest Ottawa Bayview Yards
UID:e.3330.1634
SEQUENCE:3
DTSTAMP:20260424T165558Z
URL:https://business.ottawabot.ca/events/details/canada-s-free-trade-agreements-1634
END:VEVENT

END:VCALENDAR
