BEGIN:VCALENDAR
VERSION:2.0
PRODID:-//ChamberMaster//Event Calendar 2.0//EN
METHOD:PUBLISH
X-PUBLISHED-TTL:P3D
REFRESH-INTERVAL:P3D
CALSCALE:GREGORIAN
BEGIN:VEVENT
DTSTART:20221026T150000Z
DTEND:20221026T160000Z
X-MICROSOFT-CDO-ALLDAYEVENT:FALSE
SUMMARY:Canada-UK trade post-Brexit
DESCRIPTION:Canada-UK trade post-Brexit: how is our trade with the UK going after Brexit and in this post-pandemic era?\n\nOne of the speakers is Christian Sivi re of Solimpex\, a member of the Ottawa Board of Trade and a frequent lecturer at Invest Ottawa
X-ALT-DESC;FMTTYPE=text/html:Canada-UK trade post-Brexit: how is our trade with the UK going after Brexit and in this post-pandemic era?<br />\nOne of the speakers is Christian Sivi&egrave\;re of Solimpex\, a member of the Ottawa Board of Trade and a frequent lecturer at Invest Ottawa
LOCATION:Online
UID:e.3330.3609
SEQUENCE:3
DTSTAMP:20260421T185659Z
URL:https://business.ottawabot.ca/events/details/canada-uk-trade-post-brexit-3609
END:VEVENT

END:VCALENDAR
