BEGIN:VCALENDAR
VERSION:2.0
PRODID:-//ChamberMaster//Event Calendar 2.0//EN
METHOD:PUBLISH
X-PUBLISHED-TTL:P3D
REFRESH-INTERVAL:P3D
CALSCALE:GREGORIAN
BEGIN:VEVENT
DTSTART:20200525T170000Z
DTEND:20200525T190000Z
X-MICROSOFT-CDO-ALLDAYEVENT:FALSE
SUMMARY:CETA\, our Free Trade Agreement with the European Union
DESCRIPTION:Learn how to benefit from CETA\, our Free Trade Agreement with the European Union
X-ALT-DESC;FMTTYPE=text/html:Learn how to benefit from CETA\, our Free Trade Agreement with the European Union
LOCATION:On-line workshop
UID:e.3330.1740
SEQUENCE:3
DTSTAMP:20260424T142325Z
URL:https://business.ottawabot.ca/events/details/ceta-our-free-trade-agreement-with-the-european-union-1740
END:VEVENT

END:VCALENDAR
