BEGIN:VCALENDAR
VERSION:2.0
PRODID:-//ChamberMaster//Event Calendar 2.0//EN
METHOD:PUBLISH
X-PUBLISHED-TTL:P3D
REFRESH-INTERVAL:P3D
CALSCALE:GREGORIAN
BEGIN:VEVENT
DTSTART:20250507T180000Z
DTEND:20250507T190000Z
X-MICROSOFT-CDO-ALLDAYEVENT:FALSE
SUMMARY:Contracts vs. Written Employment Statements: The Critical Change That May Affect Your Business
DESCRIPTION:Starting July 1\, 2025\, Ontario employers with 25 or more employees will be required to provide certain job terms in writing to new hires. While written employment statements are already mandatory in some Canadian jurisdictions\, they won't protect your business from broader legal risks and employee claims. \n\nThe good news? You can comply with the new regulation and safeguard your business by including these job terms in a comprehensive written employment contract covering both compliance and protection in one step. \n\nJoin our expert-led webinar with Olivia Cicchini and Kiljon Shukullari to understand this legal change and the critical role employment contracts play in protecting your business. \n\nAt the webinar\, you'll learn about:  \n\n\n	\n	Key differences between contracts and written employment statements?? \n	\n	\n	Why written employment statements are required in some jurisdictions?? \n	\n	\n	How to properly implement and manage these changes within your business?? \n	\n	\n	How contracts do both - protect your business and fulfill the new legal requirement ?? \n	\n	\n	Common pitfalls and how to avoid them??
X-ALT-DESC;FMTTYPE=text/html:<p><strong>Starting July 1\, 2025\, Ontario employers with 25 or more employees will be required to provide certain job terms in writing to new hires</strong>. While written employment statements are already mandatory in some Canadian jurisdictions\, they won&rsquo\;t protect your business from broader legal risks and employee claims.&nbsp\;</p>\n\n<p>The good news? You can comply with the new regulation&nbsp\;<em>and</em>&nbsp\;safeguard your business by including these job terms in a comprehensive written employment contract&mdash\;covering both compliance and protection in one step.&nbsp\;</p>\n\n<p>Join our expert-led webinar with&nbsp\;Olivia Cicchini&nbsp\;and&nbsp\;Kiljon Shukullari&nbsp\;to understand this legal change and the critical role employment contracts play in protecting your business.&nbsp\;</p>\n\n<p><strong>At the webinar\, you&rsquo\;ll learn about:&nbsp\;&nbsp\;</strong></p>\n\n<ul>\n	<li>\n	<p>Key differences between contracts and written employment statements??&nbsp\;</p>\n	</li>\n	<li>\n	<p>Why written employment statements are required in some jurisdictions??&nbsp\;</p>\n	</li>\n	<li>\n	<p>How to properly implement and manage these changes within your business??&nbsp\;</p>\n	</li>\n	<li>\n	<p>How contracts do both - protect your business and fulfill the new legal requirement ??&nbsp\;</p>\n	</li>\n	<li>\n	<p>Common pitfalls and how to avoid them??&nbsp\;</p>\n	</li>\n</ul>\n
LOCATION:Register here: https://www.peninsulagrouplimited.com/ca/webinars/contracts-vs-written-employment-statements/?utm_source=2422&utm_medium=shared&utm_campaign=promotion
UID:e.3330.4923
SEQUENCE:3
DTSTAMP:20260421T083659Z
URL:https://business.ottawabot.ca/events/details/contracts-vs-written-employment-statements-the-critical-change-that-may-affect-your-business-4923
END:VEVENT

END:VCALENDAR
