BEGIN:VCALENDAR
VERSION:2.0
PRODID:-//ChamberMaster//Event Calendar 2.0//EN
METHOD:PUBLISH
X-PUBLISHED-TTL:P3D
REFRESH-INTERVAL:P3D
CALSCALE:GREGORIAN
BEGIN:VEVENT
DTSTART:20241116T140000Z
DTEND:20241116T230000Z
X-MICROSOFT-CDO-ALLDAYEVENT:FALSE
SUMMARY:Converge Summit & The Grand Opening of The Hub Market Café
DESCRIPTION:Join us for the grand opening of the Hub Market Caf  in Ottawa's vibrant Byward Market. This unique space is set to become a central hub for Black entrepreneurs\, fostering connection\, growth\, and innovation.\n\nAs part of this landmark occasion\, the inaugural Converge Summit will offer a dynamic celebration of Black culture\, entrepreneurship\, and creativity. The event will include:\n\nGrand Opening Ceremony: Witness the unveiling of the Hub Market Caf \, a new space dedicated to entrepreneurial growth.\n\n \n\n\n	Panel Speakers: Learn from influential voices in business\, culture\, and innovation\, providing valuable insights and inspiration.\n	Interactive Workshops: Participate in hands-on sessions focused on essential skills for personal and business growth.\n	Music and Arts Performances: Enjoy live performances from talented artists showcasing the richness of Black culture.\n	Fashion Show: Experience the creativity and identity of Black fashion and streetwear.\n	Dance Performances: Be inspired by Afro dance that highlights cultural heritage and artistic expression.\n	Street Style Block Party: Join the lively street party with food\, music\, and fashion in the heart of Byward Market.
X-ALT-DESC;FMTTYPE=text/html:<p>Join us for the grand opening of the Hub Market Caf&eacute\; in Ottawa&rsquo\;s vibrant Byward Market. This unique space is set to become a central hub for Black entrepreneurs\, fostering connection\, growth\, and innovation.</p>\n\n<p>As part of this landmark occasion\, the inaugural Converge Summit will offer a dynamic celebration of Black culture\, entrepreneurship\, and creativity. The event will include:</p>\n\n<p>Grand Opening Ceremony: Witness the unveiling of the Hub Market Caf&eacute\;\, a new space dedicated to entrepreneurial growth.</p>\n\n<p>&nbsp\;</p>\n\n<ul>\n	<li>Panel Speakers: Learn from influential voices in business\, culture\, and innovation\, providing valuable insights and inspiration.</li>\n	<li>Interactive Workshops: Participate in hands-on sessions focused on essential skills for personal and business growth.</li>\n	<li>Music and Arts Performances: Enjoy live performances from talented artists showcasing the richness of Black culture.</li>\n	<li>Fashion Show: Experience the creativity and identity of Black fashion and streetwear.</li>\n	<li>Dance Performances: Be inspired by Afro dance that highlights cultural heritage and artistic expression.</li>\n	<li>Street Style Block Party: Join the lively street party with food\, music\, and fashion in the heart of Byward Market.</li>\n</ul>\n
LOCATION:The Hub Market Cafe 9 Byward Market Square Ottawa Ontario.\, K1N-7A2
UID:e.3330.4613
SEQUENCE:3
DTSTAMP:20260419T211740Z
URL:https://business.ottawabot.ca/events/details/converge-summit-the-grand-opening-of-the-hub-market-caf&#233;-4613
END:VEVENT

END:VCALENDAR
