BEGIN:VCALENDAR
VERSION:2.0
PRODID:-//ChamberMaster//Event Calendar 2.0//EN
METHOD:PUBLISH
X-PUBLISHED-TTL:P3D
REFRESH-INTERVAL:P3D
CALSCALE:GREGORIAN
BEGIN:VEVENT
DTSTART:20200525T160000Z
DTEND:20200525T170000Z
X-MICROSOFT-CDO-ALLDAYEVENT:FALSE
SUMMARY:Crisis Management and Recovery (CMR) Guidance for SMEs: A Panel
DESCRIPTION:The Sprott School of Business at Carleton University recently launched its new Crisis Management and Recovery (CMR) program. Through this initiative\, teams of trained students (working under the supervision of experienced faculty) will provide free business consulting and advice to help small- and medium-sized businesses manage through the immediate crisis and formulate a plan to recover and maintain their businesses for the future.\n\n \n\nOur virtual panel discussion and Q&A\, which will be held on Monday\, May 25 at 12:00-1:00pm\, will provide additional information about the program\, highlight how the program can help small businesses and not-for-profits and answer any outstanding questions. The session will be moderated by Sprott's own Andrew Webb (Sprott instructor and faculty supervisor in the CMR program) and panelists will include Rodney Nelson (Sprott instructor and faculty supervisor in the CMR program)\, Erik Steiner (Sprott student and CMR student participant) and Emily Jones Joanisse (Co-founder of Connected Canadians and CMR business participant).
X-ALT-DESC;FMTTYPE=text/html:<div><span style="color:black">The Sprott School of Business at Carleton University recently launched its new</span> <a href="https://sprott.carleton.ca/cmr/">Crisis Management and Recovery (CMR) program</a><span style="color:black">. Through this initiative\, teams of trained students (working under the supervision of experienced faculty) will provide free business consulting and advice to help small- and medium-sized businesses manage through the immediate crisis and formulate a plan to recover and maintain their businesses for the future.</span><br />\n&nbsp\;<br />\n<span style="color:black">Our virtual panel discussion and Q&amp\;A\, which will be held on Monday\, May 25 at 12:00-1:00pm\, will provide additional information about the program\, highlight how the program can help small businesses and not-for-profits and answer any outstanding questions. The session will be moderated by Sprott&rsquo\;s own Andrew Webb (Sprott instructor and faculty supervisor in the CMR program) and panelists will include Rodney Nelson (Sprott instructor and faculty supervisor in the CMR program)\, Erik Steiner (Sprott student and CMR student participant) and Emily Jones Joanisse (Co-founder of Connected Canadians and CMR business participant).</span><br />\n&nbsp\;</div>\n
LOCATION:Online
UID:e.3330.1739
SEQUENCE:3
DTSTAMP:20260424T141822Z
URL:https://business.ottawabot.ca/events/details/crisis-management-and-recovery-cmr-guidance-for-smes-a-panel-1739
END:VEVENT

END:VCALENDAR
