BEGIN:VCALENDAR
VERSION:2.0
PRODID:-//ChamberMaster//Event Calendar 2.0//EN
METHOD:PUBLISH
X-PUBLISHED-TTL:P3D
REFRESH-INTERVAL:P3D
CALSCALE:GREGORIAN
BEGIN:VEVENT
DTSTART:20200716T170000Z
DTEND:20200716T183000Z
X-MICROSOFT-CDO-ALLDAYEVENT:FALSE
SUMMARY:CUSMA\, our new NAFTA
DESCRIPTION:Get familiar with CUSMA\, our Free Trade Agreement with the United States and Mexico\, which replaced NAFTA on July 1st\n\nThis on-line webinar\, focussing on the trade in goods\, will be given by Otawa Board of Trade member Christian Sivi re of Solimpex
X-ALT-DESC;FMTTYPE=text/html:Get familiar with CUSMA\, our Free Trade Agreement with the United States and Mexico\, which replaced NAFTA on July 1st<br />\nThis on-line webinar\, focussing on the trade in goods\, will be given by Otawa Board of Trade member Christian Sivi&egrave\;re of Solimpex
LOCATION:On-Line webinar (Adobe Connect)
UID:e.3330.1814
SEQUENCE:3
DTSTAMP:20260420T020615Z
URL:https://business.ottawabot.ca/events/details/cusma-our-new-nafta-1814
END:VEVENT

END:VCALENDAR
