BEGIN:VCALENDAR
VERSION:2.0
PRODID:-//ChamberMaster//Event Calendar 2.0//EN
METHOD:PUBLISH
X-PUBLISHED-TTL:P3D
REFRESH-INTERVAL:P3D
CALSCALE:GREGORIAN
BEGIN:VEVENT
DTSTART:20210922T160000Z
DTEND:20210922T180000Z
X-MICROSOFT-CDO-ALLDAYEVENT:FALSE
SUMMARY:Démystifier les marchés publics et faire affaire avec le Gouvernement du Canada
DESCRIPTION:Chaque ann e le gouvernement du Canada d pense des milliards de dollars pour l'achat de biens et services   l'appui de la prestation des services et des programmes   la population canadienne.\n\nVenez d couvrir si le gouvernement du Canada ach te des biens ou services qu'offre votre entreprise. Services publics et Approvisionnement Canada veut aider votre entreprise   faire affaire avec le gouvernement f d ral.\n\nCe webinaire vous aidera   comprendre :\n\n\n	Le processus d'achat\n	Comment s'inscrire dans les bases de donn es de fournisseur\n	Comment  tablir des r seaux et promouvoir votre entreprise\n	Comment chercher des occasions d'affaire\n	Comment soumissionner des march s\n	Le processus d'autorisation de s curit \n\nPour vous inscrire\, merci de visiter le lien: \n\nhttps://seo-ont.ca/demystifier-les-marches-publics-et-faire-affaire-avec-le-gouvernement-du-canada
X-ALT-DESC;FMTTYPE=text/html:<p>Chaque ann&eacute\;e le gouvernement du Canada d&eacute\;pense des milliards de dollars pour l&#39\;achat de biens et services &agrave\; l&#39\;appui de la prestation des services et des programmes &agrave\; la population canadienne.</p>\n\n<p>Venez d&eacute\;couvrir si le gouvernement du Canada ach&egrave\;te des biens ou services qu&#39\;offre votre entreprise. Services publics et Approvisionnement Canada veut aider votre entreprise &agrave\; faire affaire avec le gouvernement f&eacute\;d&eacute\;ral.</p>\n\n<p>Ce webinaire vous aidera &agrave\; comprendre :</p>\n\n<ul>\n	<li>Le processus d&#39\;achat</li>\n	<li>Comment s&#39\;inscrire dans les bases de donn&eacute\;es de fournisseur</li>\n	<li>Comment &eacute\;tablir des r&eacute\;seaux et promouvoir votre entreprise</li>\n	<li>Comment chercher des occasions d&#39\;affaire</li>\n	<li>Comment soumissionner des march&eacute\;s</li>\n	<li>Le processus d&#39\;autorisation de s&eacute\;curit&eacute\;</li>\n</ul>\nPour vous inscrire\, merci de visiter le lien:&nbsp\;<br />\nhttps://seo-ont.ca/demystifier-les-marches-publics-et-faire-affaire-avec-le-gouvernement-du-canada
LOCATION:Virtuel *** Via Zoom
UID:e.3330.2593
SEQUENCE:3
DTSTAMP:20260423T175200Z
URL:https://business.ottawabot.ca/events/details/d&#233;mystifier-les-march&#233;s-publics-et-faire-affaire-avec-le-gouvernement-du-canada-2593
END:VEVENT

END:VCALENDAR
