BEGIN:VCALENDAR
VERSION:2.0
PRODID:-//ChamberMaster//Event Calendar 2.0//EN
METHOD:PUBLISH
X-PUBLISHED-TTL:P3D
REFRESH-INTERVAL:P3D
CALSCALE:GREGORIAN
BEGIN:VEVENT
DTSTART:20210928T170000Z
DTEND:20210928T183000Z
X-MICROSOFT-CDO-ALLDAYEVENT:FALSE
SUMMARY:Employment Fraud Workshop: Know the Facts AND Protect Yourself!
DESCRIPTION:Learn about Employment Fraud\, an important issue due to the many lives it has touched. You might have been swindled or know someone who has. Register today\, and lets start protecting ourselves. Registration is mandatory to attend.
X-ALT-DESC;FMTTYPE=text/html:<span style="font-size:14px\;"><span style="font-family:tahoma\;"><span style="color: rgb(85\, 85\, 85)\;">Learn about Employment Fraud\, an important issue due to the many lives it has touched. You might have been swindled or know someone who has. Register today\, and lets start protecting ourselves. Registration is mandatory to attend.</span></span></span>
LOCATION:The webinar will be offered on Zoom. Registration can be done here: https://slc.totalhire.com/event-subscribe.php?e=1349
UID:e.3330.2598
SEQUENCE:3
DTSTAMP:20260423T175155Z
URL:https://business.ottawabot.ca/events/details/employment-fraud-workshop-know-the-facts-and-protect-yourself-2598
END:VEVENT

END:VCALENDAR
