BEGIN:VCALENDAR
VERSION:2.0
PRODID:-//ChamberMaster//Event Calendar 2.0//EN
METHOD:PUBLISH
X-PUBLISHED-TTL:P3D
REFRESH-INTERVAL:P3D
CALSCALE:GREGORIAN
BEGIN:VEVENT
DTSTART:20210414T190000Z
DTEND:20210414T210000Z
X-MICROSOFT-CDO-ALLDAYEVENT:FALSE
SUMMARY:eSAX presents: SOS (SAVE OTTAWA SMALLBIZ) FREE virtual networking event
DESCRIPTION:SAVING SMALL BUSINESS HAS NEVER BEEN MORE IMPORTANT\n\n \n\nJoin us at this SOS (Save Ottawa Smallbiz) FREE virtual networking event to grow and support our small business community.\n\n \n\nFREE to attend & FREE to promote your business with a virtual booth.\n\nSponsorship opportunities available.\n\n\n\nPowered by TCC Canada and the Canadian Armed Forces (Innovation for Defence Excellence and Security (IDEaS)\n\n \n\n#eSAX makes virtual networking work!
X-ALT-DESC;FMTTYPE=text/html:<div>SAVING SMALL BUSINESS HAS NEVER BEEN MORE IMPORTANT<br />\n&nbsp\;</div>\n\n<div><a href="https://eSAX.ca">Join us at this SOS (Save Ottawa Smallbiz) FREE virtual networking event to grow and support our small business community.</a><br />\n&nbsp\;</div>\n\n<div>FREE to attend &amp\; FREE to promote your business with a virtual booth.</div>\n\n<div>Sponsorship opportunities available.<br />\n<br />\n<span style="color:rgb(50\, 50\, 50)\; font-family:open sans\,arial\,helvetica\,sans-serif\; font-size:14px">Powered by </span><strong><span style="color:rgb(0\, 0\, 255)\; font-family:inherit"><a href="https://tcccanada.com/" style="box-sizing: border-box\; background-color: transparent\; color: rgb(0\, 0\, 255)\; text-decoration-line: none\; margin: 0px\; padding: 0px\; border: 0px\; font-style: inherit\; font-variant: inherit\; font-weight: inherit\; font-stretch: inherit\; line-height: inherit\; font-family: inherit\; vertical-align: baseline\; outline-color: rgb(207\, 216\, 220) !important\;">TCC Canada</a></span>&nbsp\;and the <span style="color:rgb(0\, 0\, 255)\; font-family:inherit"><a href="https://www.canada.ca/en/department-national-defence/programs/defence-ideas.html?utm_campaign=not-applicable&amp\;utm_medium=vanity-url&amp\;utm_source=canada-ca_defence-ideas" rel="noopener noreferrer" style="box-sizing: border-box\; background-color: transparent\; color: rgb(0\, 0\, 255)\; text-decoration-line: none\; margin: 0px\; padding: 0px\; border: 0px\; font-style: inherit\; font-variant: inherit\; font-weight: inherit\; font-stretch: inherit\; line-height: inherit\; font-family: inherit\; vertical-align: baseline\; outline-color: rgb(207\, 216\, 220) !important\;" target="_blank">Canadian Armed Forces (Innovation for Defence Excellence and Security (IDEaS)</a></span></strong><br />\n&nbsp\;</div>\n\n<div><a class="oajrlxb2 g5ia77u1 qu0x051f esr5mh6w e9989ue4 r7d6kgcz rq0escxv nhd2j8a9 nc684nl6 p7hjln8o kvgmc6g5 cxmmr5t8 oygrvhab hcukyx3x jb3vyjys rz4wbd8a qt6c0cv9 a8nywdso i1ao9s8h esuyzwwr f1sip0of lzcic4wl oo9gr5id gpro0wi8 lrazzd5p" href="https://www.facebook.com/hashtag/esax?__eep__=6&amp\;__cft__[0]=AZXkFKtobKHR-HKUSmNwipXL-E7nYE1ngVveqBB0-A6VT2TfD4a0bbkusym2apd2Z7RbmgOdGa-yyx6KVYExC-Jtk81RGSNfiq75btKhWNJGOKQnOWYvTRSKYurVAwBbjvI&amp\;__tn__=q" style="background-color: transparent\; font-family: inherit\; color: var(--primary-text)\; cursor: pointer\; text-decoration-line: none\; outline: none\; list-style: none\; border-width: 0px\; border-style: initial\; border-color: initial\; padding: 0px\; margin: 0px\; touch-action: manipulation\; text-align: inherit\; font-weight: 600\; display: inline\; -webkit-tap-highlight-color: transparent\; box-sizing: border-box\;" tabindex="0">#eSAX</a>&nbsp\;makes virtual networking work!</div>\n
LOCATION:VIRTUAL! https://eSAX.ca
UID:e.3330.2465
SEQUENCE:3
DTSTAMP:20260423T230050Z
URL:https://business.ottawabot.ca/events/details/esax-presents-sos-save-ottawa-smallbiz-free-virtual-networking-event-2465
END:VEVENT

END:VCALENDAR
