BEGIN:VCALENDAR
VERSION:2.0
PRODID:-//ChamberMaster//Event Calendar 2.0//EN
METHOD:PUBLISH
X-PUBLISHED-TTL:P3D
REFRESH-INTERVAL:P3D
CALSCALE:GREGORIAN
BEGIN:VEVENT
DTSTART:20200618T160000Z
DTEND:20200618T170000Z
X-MICROSOFT-CDO-ALLDAYEVENT:FALSE
SUMMARY:eSAX Virtual Networking Event
DESCRIPTION:More than ever\, people need to network with one another to lessen the constraints of isolation. Please join us for an eSAX VIRTUAL NETWORKING EVENT to help grow Ottawa business! A link will be made available upon check-out.\n\nUsing a new virtual event platform\, here is a short introductory video that should be reviewed prior to the event.
X-ALT-DESC;FMTTYPE=text/html:<h2 style="text-align:center">More than ever\, people need to network with one another to lessen the constraints of isolation. Please join us for an eSAX VIRTUAL NETWORKING EVENT to help grow Ottawa business! A link will be made available upon check-out.</h2>\n\n<h2 style="text-align:center">Using a new virtual event platform\, <a href="https://www.youtube.com/watch?v=O7hmoIe9Yxo&amp\;list=PLkvzOB_dwOVNZ3HEytSDH4NJAZ7t0qEez&amp\;index?sub_confirmation=1">here is a short introductory video</a> that should be reviewed prior to the event.</h2>\n
LOCATION:A link will be made available upon check-out
UID:e.3330.1806
SEQUENCE:3
DTSTAMP:20260421T100113Z
URL:https://business.ottawabot.ca/events/details/esax-virtual-networking-event-1806
END:VEVENT

END:VCALENDAR
