BEGIN:VCALENDAR
VERSION:2.0
PRODID:-//ChamberMaster//Event Calendar 2.0//EN
METHOD:PUBLISH
X-PUBLISHED-TTL:P3D
REFRESH-INTERVAL:P3D
CALSCALE:GREGORIAN
BEGIN:VEVENT
DTSTART:20211020T210000Z
DTEND:20211020T230000Z
X-MICROSOFT-CDO-ALLDAYEVENT:FALSE
SUMMARY:eSAX Virtual PIZZA Party Ottawa Entrepreneur Networking Event
DESCRIPTION:Join us as we grow and support our small business community through quality Ottawa entrepreneur networking (and pizza)!\n\nWednesday\, October 20\, 2021 (5:00 - 7:00 pm EST)\n\nREGISTER HERE\n\nEveryone who registers by Tuesday\, October 12\, 2021 (midnight) will be entered into a draw to receive one of ten (10) FREE piping hot PIZZAS delivered right to their door ! Here is how the pizza portion works\n\nPowered by RBC\, TCC Canada and CAPITAL TEK
X-ALT-DESC;FMTTYPE=text/html:<h2 style="text-align:center">Join us as we grow and support our small business community through quality Ottawa entrepreneur networking (and pizza)!</h2>\n\n<h2 style="text-align:center"><span style="font-family:inherit"><strong>Wednesday\, October 20\, 2021 (5:00 - 7:00 pm EST)</strong></span></h2>\n\n<h1 style="text-align: center\;"><a href="https://events.com/r/en_US/tickets/esax-virtual-pizza-party-networking-event-816866">REGISTER HERE</a></h1>\n\n<h2 style="text-align:center">Everyone who registers by Tuesday\, October 12\, 2021 (midnight) will be entered into a draw to receive one of ten (10) FREE piping hot PIZZAS delivered right to their door !&nbsp\;<span style="font-family:inherit\; font-size:10pt"><a href="http://pizzatime.xyz/?grsf=arvwz7" rel="noopener noreferrer" style="box-sizing: border-box\; background-color: transparent\; color: rgb(0\, 188\, 218)\; text-decoration-line: none\; margin: 0px\; padding: 0px\; border: 0px\; font-style: inherit\; font-variant: inherit\; font-weight: inherit\; font-stretch: inherit\; line-height: inherit\; font-family: inherit\; vertical-align: baseline\; outline-color: rgb(207\, 216\, 220) !important\;" target="_blank">Here is how the pizza portion works</a></span></h2>\n\n<p style="text-align:center">Powered by <strong><a href="https://www.rbc.com/canada.html" style="box-sizing: border-box\; background-color: transparent\; color: rgb(0\, 188\, 218)\; text-decoration-line: none\; margin: 0px\; padding: 0px\; border: 0px\; font-style: inherit\; font-variant: inherit\; font-weight: inherit\; font-stretch: inherit\; line-height: inherit\; font-family: inherit\; vertical-align: baseline\; outline-color: rgb(207\, 216\, 220) !important\;">RBC</a></strong><strong>\, <a href="https://tcccanada.com/" style="box-sizing: border-box\; background-color: transparent\; color: rgb(0\, 188\, 218)\; text-decoration-line: none\; margin: 0px\; padding: 0px\; border: 0px\; font-style: inherit\; font-variant: inherit\; font-weight: inherit\; font-stretch: inherit\; line-height: inherit\; font-family: inherit\; vertical-align: baseline\; outline-color: rgb(207\, 216\, 220) !important\;">TCC Canada</a>&nbsp\;</strong>and&nbsp\;<strong><a href="https://capitaltek.ca/" rel="noopener noreferrer" style="box-sizing: border-box\; background-color: transparent\; color: rgb(0\, 188\, 218)\; text-decoration-line: none\; margin: 0px\; padding: 0px\; border: 0px\; font-style: inherit\; font-variant: inherit\; font-weight: inherit\; font-stretch: inherit\; line-height: inherit\; font-family: inherit\; vertical-align: baseline\; outline-color: rgb(207\, 216\, 220) !important\;" target="_blank">CAPITAL TEK</a></strong></p>\n
LOCATION:VIRTUAL! An online event link will be made available upon check-out
UID:e.3330.2600
SEQUENCE:3
DTSTAMP:20260420T131047Z
URL:https://business.ottawabot.ca/events/details/esax-virtual-pizza-party-ottawa-entrepreneur-networking-event-2600
END:VEVENT

END:VCALENDAR
