BEGIN:VCALENDAR
VERSION:2.0
PRODID:-//ChamberMaster//Event Calendar 2.0//EN
METHOD:PUBLISH
X-PUBLISHED-TTL:P3D
REFRESH-INTERVAL:P3D
CALSCALE:GREGORIAN
BEGIN:VEVENT
DTSTART:20210915T140000Z
DTEND:20210915T160000Z
X-MICROSOFT-CDO-ALLDAYEVENT:FALSE
SUMMARY:Etude de marché: Trucs et astuces pour les petites entreprises (in French only)
DESCRIPTION:Pour  valuer le potentiel de votre id e d'entreprise\, vous devez r aliser une  tude de march .\n\nLa SEO avec la participation de la Biblioth que Publique d'Ottawa vous offre cet atelier en fran ais qui vous aidera   identifier les ressources disponibles\, fiables et gratuites utiles   l' laboration de vos  tudes primaires et secondaires\, vous permettant de jauger la viabilit  de votre concept d'affaires avant de vous lancer.\n\n\n\nVoici quelques uns des sujets qui seront abord s par Diego Argaez des services des affaires de la Biblioth que publique d'Ottawa :\n\n	Trucs et astuces pour r aliser une  tude de march  pour petites entreprises.\n	Pourquoi il est important de faire une  tude de march  avant de se lancer en affaires?\n	Identifier les ressources disponibles et gratuites   notre port e.\n	Savoir o  les chercher\n	Qu'est-ce qu'une  tude primaire et une  tude secondaire?
X-ALT-DESC;FMTTYPE=text/html:<span style="color:black"><span style="font-family:verdana\,sans-serif"><span style="font-size:10.0pt">Pour &eacute\;valuer le potentiel de votre id&eacute\;e d&rsquo\;entreprise\, vous devez r&eacute\;aliser une &eacute\;tude de march&eacute\;.<br />\nLa SEO avec la participation de la Biblioth&egrave\;que Publique d&rsquo\;Ottawa vous offre cet atelier en fran&ccedil\;ais qui vous aidera &agrave\; identifier les <strong>ressources disponibles\, fiables et gratuites </strong>utiles &agrave\; l&rsquo\;&eacute\;laboration de vos &eacute\;tudes primaires et secondaires\, vous permettant de jauger la viabilit&eacute\; de votre concept d&rsquo\;affaires avant de vous lancer.<br />\n<br />\nVoici quelques uns des sujets qui seront abord&eacute\;s par&nbsp\;Diego Argaez&nbsp\;des services des affaires de la Biblioth&egrave\;que publique d&#39\;Ottawa&nbsp\;:</span></span></span>\n<ul>\n	<li><span style="font-family:verdana\,sans-serif"><span style="font-size:10.0pt">Trucs et astuces pour r&eacute\;aliser une &eacute\;tude de march&eacute\; pour petites entreprises.</span></span></li>\n	<li><span style="font-family:verdana\,sans-serif"><span style="font-size:10.0pt">Pourquoi il est important de faire une &eacute\;tude de march&eacute\; avant de se lancer en affaires?</span></span></li>\n	<li><span style="font-family:verdana\,sans-serif"><span style="font-size:10.0pt">Identifier les ressources disponibles et gratuites &agrave\; notre port&eacute\;e.</span></span></li>\n	<li><span style="font-family:verdana\,sans-serif"><span style="font-size:10.0pt">Savoir o&ugrave\; les chercher</span></span></li>\n	<li><span style="font-family:verdana\,sans-serif"><span style="font-size:10.0pt">Qu&#39\;est-ce qu&#39\;une &eacute\;tude primaire et une &eacute\;tude secondaire?</span></span></li>\n</ul>\n
LOCATION:
UID:e.3330.2592
SEQUENCE:3
DTSTAMP:20260423T191350Z
URL:https://business.ottawabot.ca/events/details/etude-de-march&#233;-trucs-et-astuces-pour-les-petites-entreprises-in-french-only-2592
END:VEVENT

END:VCALENDAR
