BEGIN:VCALENDAR
VERSION:2.0
PRODID:-//ChamberMaster//Event Calendar 2.0//EN
METHOD:PUBLISH
X-PUBLISHED-TTL:P3D
REFRESH-INTERVAL:P3D
CALSCALE:GREGORIAN
BEGIN:VEVENT
DTSTART:20200610T230000Z
DTEND:20200611T010000Z
X-MICROSOFT-CDO-ALLDAYEVENT:FALSE
SUMMARY:eXclusive networking eXperience featuring Katherine Cooligan (Regional Managing Partner\, BLG)
DESCRIPTION:Join us for an eXclusive eXperience networking event on Wednesday\, June 10\, 2020 (7-9pm) EST with special guest Katherine Cooligan (Regional Managing Partner\, BLG) as we discuss the current state of small business.\n\n\n\nWe will be using a new virtual event platform.\n\nHere is a short introductory video that should be reviewed prior to the event.
X-ALT-DESC;FMTTYPE=text/html:<span style="font-size:14px">Join us for an eXclusive eXperience networking event on Wednesday\, June 10\, 2020 (7-9pm) EST with special guest <a href="https://www.linkedin.com/in/katherine-cooligan-37127933/">Katherine Cooligan</a><span style="color:windowtext"> (Regional Managing Partner\, BLG)</span> as we discuss the current state of small business.<br />\n<br />\nWe will be using a new virtual event platform.<br />\n<a href="https://www.youtube.com/watch?v=O7hmoIe9Yxo&amp\;list=PLkvzOB_dwOVNZ3HEytSDH4NJAZ7t0qEez&amp\;index=/?fpr=eSAX">Here is a short introductory video</a> that should be reviewed prior to the event.</span>
LOCATION:A VIRTUAL LINK WILL BE MADE AVAILABLE UPON CHECK-OUT
UID:e.3330.1735
SEQUENCE:3
DTSTAMP:20260421T100331Z
URL:https://business.ottawabot.ca/events/details/exclusive-networking-experience-featuring-katherine-cooligan-regional-managing-partner-blg-06-10-2020-1735
END:VEVENT

END:VCALENDAR
