BEGIN:VCALENDAR
VERSION:2.0
PRODID:-//ChamberMaster//Event Calendar 2.0//EN
METHOD:PUBLISH
X-PUBLISHED-TTL:P3D
REFRESH-INTERVAL:P3D
CALSCALE:GREGORIAN
BEGIN:VEVENT
DTSTART:20200622T170000Z
DTEND:20200622T190000Z
X-MICROSOFT-CDO-ALLDAYEVENT:FALSE
SUMMARY:Exporting 101
DESCRIPTION:Exporting 101: learn the basics of the exporting process\, looking particularly at legal\, logistics\, customs\, regulatory and risk management issues. One and a half hour presentation\, followed by a 30 minutes Q&A
X-ALT-DESC;FMTTYPE=text/html:Exporting 101: learn the basics of the exporting process\, looking particularly at legal\, logistics\, customs\, regulatory and risk management issues. One and a half hour presentation\, followed by a 30 minutes Q&amp\;A
LOCATION:On-line
UID:e.3330.1809
SEQUENCE:3
DTSTAMP:20260421T083133Z
URL:https://business.ottawabot.ca/events/details/exporting-101-06-22-2020-1809
END:VEVENT

END:VCALENDAR
