BEGIN:VCALENDAR
VERSION:2.0
PRODID:-//ChamberMaster//Event Calendar 2.0//EN
METHOD:PUBLISH
X-PUBLISHED-TTL:P3D
REFRESH-INTERVAL:P3D
CALSCALE:GREGORIAN
BEGIN:VEVENT
DTSTART;VALUE=DATE:20200820
DTEND;VALUE=DATE:20200821
TRANSP:TRANSPARENT
X-MICROSOFT-CDO-ALLDAYEVENT:TRUE
SUMMARY:Free One-one-One Access Online Masters Event
DESCRIPTION:The world of Master's degree opportunities at your doorstep on August 20th\, 29th or September 3rd\n\nAre you passionate about making a difference? Start planning your future while staying home.\n\nAccess Online Masters event gives you the opportunity to explore graduate school options in your dream field of study now in a safe digital environment. The Access Online team will guide you to meet virtually with admissions advisers from the best Masters programmes for you.\n\nSome of the world's leading universities will be available to introduce you to their best graduate programmes.\n\n\n\nWhat can you expect from the online event?\n\n	Individual video meetings with school advisers from International Business Schools\n	Personalised consultation for your graduate studies\n	Scholarship opportunities\n\n	 \n\nThis online event gives you a safe space where you can be productive\, make new connections\, and get to know leading Masters programmes from around the globe.\n\n\n\nWhat makes a Master's degree valuable?\n\nEarning a Master's degree shows that you are a problem-solver and a team player   qualities which are highly desired by employers. Whether completed abroad or in your home country\, an international Master's degree will give you a head start to your dream job\, career progress and the confidence to make a difference in your field.\n\nSave your spot at this free online event as meeting slots are limited.\n\nGet started today by signing up here: https://www.accessmasterstour.com/link/FKQ
X-ALT-DESC;FMTTYPE=text/html:<strong><span style="font-family:helvetica\,sans-serif">The world of Master&rsquo\;s degree opportunities at your doorstep on August 20th\, 29th or September 3rd</span></strong><br />\nAre you passionate about making a difference? Start planning your future while staying home.<br />\n<a href="https://www.accesseventsonline.com/tour/masters/lana-online-event-20-aug-2020?ui=RHV7!X1597244710&amp\;utm_source=company&amp\;utm_medium=event+listing&amp\;utm_campaign=lana_masters_online_spring_2020_ottawa_board_trade_event_listing">Access Online Masters event</a> gives you the opportunity to explore graduate school options in your dream field of study now in a safe digital environment. The Access Online team will guide you to meet virtually with admissions advisers from the best Masters programmes for you.<br />\nSome of the world&rsquo\;s leading universities will be available to introduce you to their best graduate programmes.<br />\n<br />\n<strong><span style="font-family:helvetica\,sans-serif">What can you expect from the online event?</span></strong>\n<ul>\n	<li>Individual video meetings with school advisers from International Business Schools</li>\n	<li>Personalised consultation for your graduate studies</li>\n	<li>Scholarship opportunities<br />\n	&nbsp\;</li>\n</ul>\nThis online event gives you a safe space where you can be productive\, make new connections\, and get to know leading Masters programmes from around the globe.<br />\n<br />\n<strong><span style="font-family:helvetica\,sans-serif">What makes a Master&rsquo\;s degree valuable?</span></strong><br />\nEarning a <a href="https://www.accesseventsonline.com/tour/masters/lana-online-event-20-aug-2020?ui=RHV7!X1597244710&amp\;utm_source=company&amp\;utm_medium=event+listing&amp\;utm_campaign=lana_masters_online_spring_2020_ottawa_board_trade_event_listing">Master&rsquo\;s</a> degree shows that you are a problem-solver and a team player &ndash\; qualities which are highly desired by employers. Whether completed abroad or in your home country\, an international Master&rsquo\;s degree will give you a head start to your dream job\, career progress and the confidence to make a difference in your field.<br />\nSave your spot at this free online event as meeting slots are limited.<br />\n<span style="font-size:14px"><span style="color:black">Get started today by signing up here:</span> <span style="color:black"><a href="https://www.accessmasterstour.com/link/FKQ"><span style="font-family:trebuchet ms\,sans-serif">https://www.accessmasterstour.com/link/FKQ</span></a></span><br />\n&nbsp\;</span><br />\n&nbsp\;<br />\n&nbsp\;<br />\n&nbsp\;
LOCATION:Access Online
UID:e.3330.2240
SEQUENCE:3
DTSTAMP:20260421T125315Z
URL:https://business.ottawabot.ca/events/details/free-one-one-one-access-online-masters-event-2240
END:VEVENT

END:VCALENDAR
