BEGIN:VCALENDAR
VERSION:2.0
PRODID:-//ChamberMaster//Event Calendar 2.0//EN
METHOD:PUBLISH
X-PUBLISHED-TTL:P3D
REFRESH-INTERVAL:P3D
CALSCALE:GREGORIAN
BEGIN:VEVENT
DTSTART:20241107T170000Z
DTEND:20241107T183000Z
X-MICROSOFT-CDO-ALLDAYEVENT:FALSE
SUMMARY:Scam & Cyber Security Event
DESCRIPTION:Scam and Cyber Security Awareness Training\n\n  \n\n\n	\n		\n			 \n			\n			\n				\n					\n						\n\n						In 2023\, numerous businesses in Ottawa and Kanata were harshly reminded of the constant threat posed by cyber scams and attacks. Despite their confidence in their security measures\, they became targets of hackers and incurred substantial financial damages\, each losing over $100\,000.\n\n						\n\n						These companies were not faceless entities\; they were genuine people\, real businesses\, struggling with the consequences of scams and cyberattacks. Many believed they were too insignificant to be targeted\, or they presumed their IT personnel were safeguarding them.\n\n						\n\n						Attend a practical training session. We'll bypass the generic advice and focus on real-world scenarios\, demonstrating that even the most cautious can fall prey to security threats.\n\n						Here's what you can expect to learn:\n						\n							The latest tactics used by scammers and hackers to infiltrate businesses.\n							Common misconceptions that leave your business vulnerable\n							Practical and no-cost strategies and business procedures to fortify your defenses and safeguard your assets. \n						\n						To secure your complimentary seat\, please follow the link.\n\n						\n							12 pm est Tuesday November 05\n							12 pm est Thursday November 07\n						\n						Spread the word and share this invitation with your fellow business owners\, managers\, and executives. Let's unite to empower our community to stay proactive against cyber threats.\n\n						Register now for 100% Off - space are limited!
X-ALT-DESC;FMTTYPE=text/html:<div style="text-align:center"><span style="color:#282D38"><span style="font-size:21.0pt">Scam and Cyber Security Awareness Training</span></span><br />\n&nbsp\;&nbsp\;</div>\n\n<table border="0" cellpadding="0" cellspacing="0" style="background:white\; border-collapse:collapse\; width:100.0%">\n	<tbody>\n		<tr>\n			<td>&nbsp\;</td>\n			<td>\n			<table border="0" cellpadding="0" cellspacing="0" style="border-collapse:collapse\; width:100.0%">\n				<tbody>\n					<tr>\n						<td style="width:82.0%"><br />\n						<span style="color:#5A6378"><span style="font-size:11.5pt">In 2023\, numerous businesses in Ottawa and Kanata were harshly reminded of the constant threat posed by cyber scams and attacks. Despite their confidence in their security measures\, they became targets of hackers and incurred substantial financial damages\, each losing over $100\,000.</span></span><br />\n						<br />\n						<span style="color:#5A6378"><span style="font-size:11.5pt">These companies were not faceless entities\; they were genuine people\, real businesses\, struggling with the consequences of scams and cyberattacks. Many believed they were too insignificant to be targeted\, or they presumed their IT personnel were safeguarding them.</span></span><br />\n						<br />\n						<span style="color:#5A6378"><span style="font-size:11.5pt">Attend a practical training session. We&#39\;ll bypass the generic advice and focus on real-world scenarios\, demonstrating that even the most cautious can fall prey to security threats.</span></span><br />\n						<span style="color:#5A6378"><span style="font-size:11.5pt">Here&#39\;s what you can expect to learn:</span></span>\n						<ul>\n							<li><span style="color:#333333"><span style="font-size:11.5pt">The latest tactics used by scammers and hackers to infiltrate businesses.</span></span></li>\n							<li><span style="color:#333333"><span style="font-size:11.5pt">Common misconceptions that leave your business vulnerable</span></span></li>\n							<li><span style="color:black"><span style="font-size:11.5pt">Practical and no-cost strategies and business procedures to fortify your defenses and safeguard your assets</span></span><span style="font-size:11.5pt">.&nbsp\;</span></li>\n						</ul>\n						<span style="color:#5A6378"><span style="font-size:11.5pt">To secure your complimentary seat\, please follow the <a href="https://link.receptyv.ca/widget/group/HDOc25HTmvZruRsMRzL6">link</a>.</span></span>\n\n						<ul>\n							<li><span style="font-size:11.5pt">12 pm est Tuesday November 05</span></li>\n							<li><span style="font-size:11.5pt">12 pm est Thursday November 07</span></li>\n						</ul>\n						<span style="font-size:11.5pt"><span style="color:#5A6378"><span style="font-size:11.5pt">Spread the word and share this invitation with your fellow business owners\, managers\, and executives. Let&#39\;s unite to empower our community to stay proactive against cyber threats.</span></span></span>\n\n						<div style="text-align:center"><a href="https://link.receptyv.ca/widget/group/HDOc25HTmvZruRsMRzL6" style="text-align: center\;">Register now for 100% Off - space are limited!</a></div>\n\n						<div>&nbsp\;</div>\n						</td>\n					</tr>\n				</tbody>\n			</table>\n			</td>\n		</tr>\n	</tbody>\n</table>\n
LOCATION:Online link will be sent after registration
UID:e.3330.4610
SEQUENCE:3
DTSTAMP:20260419T211612Z
URL:https://business.ottawabot.ca/events/details/free-scam-cyber-security-event-for-small-business-owners-11-05-2024-4610
END:VEVENT

END:VCALENDAR
