BEGIN:VCALENDAR
VERSION:2.0
PRODID:-//ChamberMaster//Event Calendar 2.0//EN
METHOD:PUBLISH
X-PUBLISHED-TTL:P3D
REFRESH-INTERVAL:P3D
CALSCALE:GREGORIAN
BEGIN:VEVENT
DTSTART:20201113T190000Z
DTEND:20201113T200000Z
X-MICROSOFT-CDO-ALLDAYEVENT:FALSE
SUMMARY:Free Trade Agreements Panel: Let's Diversity
DESCRIPTION:Free Trade Agreements Panel: Let's Diversity.\n\nLearn how to adapt to the new CUSMA/USMCA/TMEC and maximize its benefits - and why Canadian businesses need to look to diversify trade via the TPP and CETA.\n\nOttawa Board of Trade member Christian Sivi re of Solimpex\, will be joined by Sara Wilshaw\, Canada's Chief Trade Commissioner\, and Anders Fisker and Delphine Adenot Owusu of the European Chamber of Commerce in Canada (EUCCAN)\n\nThis presentation is part of CITT's annual Canada Logistics Conference
X-ALT-DESC;FMTTYPE=text/html:Free Trade Agreements Panel: Let&#39\;s Diversity.<br />\nLearn how to adapt to the new CUSMA/USMCA/TMEC and maximize its benefits - and why Canadian businesses need to look to diversify trade via the TPP and CETA.<br />\nOttawa Board of Trade member Christian Sivi&egrave\;re of Solimpex\, will be joined by Sara Wilshaw\, Canada&#39\;s Chief Trade Commissioner\, and Anders Fisker and Delphine Adenot Owusu of the European Chamber of Commerce in Canada (EUCCAN)<br />\nThis presentation is part of CITT&#39\;s annual Canada Logistics Conference<br />\n&nbsp\;
LOCATION:On Line
UID:e.3330.2404
SEQUENCE:3
DTSTAMP:20260421T200859Z
URL:https://business.ottawabot.ca/events/details/free-trade-agreements-panel-let-s-diversity-2404
END:VEVENT

END:VCALENDAR
