BEGIN:VCALENDAR
VERSION:2.0
PRODID:-//ChamberMaster//Event Calendar 2.0//EN
METHOD:PUBLISH
X-PUBLISHED-TTL:P3D
REFRESH-INTERVAL:P3D
CALSCALE:GREGORIAN
BEGIN:VEVENT
DTSTART:20191115T143000Z
DTEND:20191115T160000Z
X-MICROSOFT-CDO-ALLDAYEVENT:FALSE
SUMMARY:Future Speaker - Communicate your Vision
DESCRIPTION:This program targets seasoned and inspiring entrepreneurs\, changemakers\, and thought-leaders with the opportunity to amplify their drive for success with a platform to communicate their vision.\n\n\n\nFocused on:\n\n\n\n1. Pitching strategies\,\n\n2. Presentation skills and\,\n\n3. Face-to-face closing strategies\n\n\n\nThis hands-on workshop engages with innovators that want to inform\, inspire\, and influence.\n\nExpect to be challenged. Prepare to accept greatness.\n\n\n\nAbout the Speaker - Carlo Lombard\n\n\n\nWith 15-years of experience speaking in front of audiences from around the world\, Carlo has entertained\, informed\, and sold millions working with brands like Rolex\, Tag Heuer\, Mont Blanc\, Cartier and more. Interviewed\, promoted\, and supported hundreds of founders to shape and share their unique message with the world.
X-ALT-DESC;FMTTYPE=text/html:<div style="text-align:start">\n<div>\n<div>\n<div>\n<div>This program targets seasoned and inspiring entrepreneurs\, changemakers\, and thought-leaders with the opportunity to amplify their drive for success with a platform to communicate their vision.<br />\n<br />\nFocused on:<br />\n<br />\n1. Pitching strategies\,<br />\n2. Presentation skills and\,<br />\n3. Face-to-face closing strategies<br />\n<br />\nThis hands-on workshop engages with innovators that want to inform\, inspire\, and influence.<br />\nExpect to be challenged. Prepare to accept greatness.<br />\n<br />\n<strong>About the Speaker - Carlo Lombard</strong><br />\n<br />\nWith 15-years of experience speaking in front of audiences from around the world\, Carlo has entertained\, informed\, and sold millions working with brands like Rolex\, Tag Heuer\, Mont Blanc\, Cartier and more. Interviewed\, promoted\, and supported hundreds of founders to shape and share their unique message with the world.</div>\n</div>\n</div>\n</div>\n</div>\n\n<div style="text-align:start">\n<div>&nbsp\;</div>\n</div>\n
LOCATION:Invest Ottawa
UID:e.3330.1111
SEQUENCE:3
DTSTAMP:20260425T113437Z
URL:https://business.ottawabot.ca/events/details/future-speaker-communicate-your-vision-11-15-2019-1111
END:VEVENT

END:VCALENDAR
