BEGIN:VCALENDAR
VERSION:2.0
PRODID:-//ChamberMaster//Event Calendar 2.0//EN
METHOD:PUBLISH
X-PUBLISHED-TTL:P3D
REFRESH-INTERVAL:P3D
CALSCALE:GREGORIAN
BEGIN:VEVENT
DTSTART:20200522T140000Z
DTEND:20200522T150000Z
X-MICROSOFT-CDO-ALLDAYEVENT:FALSE
SUMMARY:How to Leverage Organization Barter to Conserve Cash
DESCRIPTION:The Ottawa Board of Trade in partnership with BarterPay present How to Leverage Organized Barter to Conserve Cash!\n\n\n\nUnsold time or space expires to zero value. You can't go back yesterday and bill for lost time!\n\n\n\nUnsold\, paid-up inventory has some shelf life\, but if it's not selling or you need to heavily discount\, you're losing out on your margin.\n\n\n\nJoin John Porter\, Founder & CEO of BarterPay\, as we discuss how to leverage organized barter to fill downtime\, move idle inventory\, increase sales\, offset costs\, obtain barter financing and amplify your social impact.\n\n\n\nLive Q&A to follow presentation.\n\n\n\nChantal Calderone\, chantal.calderone@ottawabot.ca\, for more information.
X-ALT-DESC;FMTTYPE=text/html:<span style="color: rgb(35\, 35\, 51)\; font-family: Lato\, Helvetica\, Arial\; font-size: 14px\;">The Ottawa Board of Trade in partnership with BarterPay present <em>How to Leverage Organized Barter to Conserve Cash!</em></span><br style="box-sizing: border-box\; color: rgb(35\, 35\, 51)\; font-family: Lato\, Helvetica\, Arial\; font-size: 14px\;" />\n<br style="box-sizing: border-box\; color: rgb(35\, 35\, 51)\; font-family: Lato\, Helvetica\, Arial\; font-size: 14px\;" />\n<span style="color: rgb(35\, 35\, 51)\; font-family: Lato\, Helvetica\, Arial\; font-size: 14px\;">Unsold time or space expires to zero value. You can&#39\;t go back yesterday and bill for lost time!</span><br style="box-sizing: border-box\; color: rgb(35\, 35\, 51)\; font-family: Lato\, Helvetica\, Arial\; font-size: 14px\;" />\n<br style="box-sizing: border-box\; color: rgb(35\, 35\, 51)\; font-family: Lato\, Helvetica\, Arial\; font-size: 14px\;" />\n<span style="color: rgb(35\, 35\, 51)\; font-family: Lato\, Helvetica\, Arial\; font-size: 14px\;">Unsold\, paid-up inventory has some shelf life\, but if it&#39\;s not selling or you need to heavily discount\, you&#39\;re losing out on your margin.</span><br style="box-sizing: border-box\; color: rgb(35\, 35\, 51)\; font-family: Lato\, Helvetica\, Arial\; font-size: 14px\;" />\n<br style="box-sizing: border-box\; color: rgb(35\, 35\, 51)\; font-family: Lato\, Helvetica\, Arial\; font-size: 14px\;" />\n<span style="color: rgb(35\, 35\, 51)\; font-family: Lato\, Helvetica\, Arial\; font-size: 14px\;">Join John Porter\, Founder &amp\; CEO of BarterPay\, as we discuss how to leverage organized barter to fill downtime\, move idle inventory\, increase sales\, offset costs\, obtain barter financing and amplify your social impact.</span><br style="box-sizing: border-box\; color: rgb(35\, 35\, 51)\; font-family: Lato\, Helvetica\, Arial\; font-size: 14px\;" />\n<br style="box-sizing: border-box\; color: rgb(35\, 35\, 51)\; font-family: Lato\, Helvetica\, Arial\; font-size: 14px\;" />\n<span style="color: rgb(35\, 35\, 51)\; font-family: Lato\, Helvetica\, Arial\; font-size: 14px\;">Live Q&amp\;A to follow presentation.<br />\n<br />\nChantal Calderone\, <a href="mailto:chantal.calderone@ottawabot.ca">chantal.calderone@ottawabot.ca</a>\, for more information.</span>
LOCATION:
UID:e.3330.1713
SEQUENCE:3
DTSTAMP:20260423T183527Z
URL:https://business.ottawabot.ca/events/details/how-to-leverage-organization-barter-to-conserve-cash-1713
END:VEVENT

END:VCALENDAR
