BEGIN:VCALENDAR
VERSION:2.0
PRODID:-//ChamberMaster//Event Calendar 2.0//EN
METHOD:PUBLISH
X-PUBLISHED-TTL:P3D
REFRESH-INTERVAL:P3D
CALSCALE:GREGORIAN
BEGIN:VEVENT
DTSTART:20200811T160000Z
DTEND:20200811T170000Z
X-MICROSOFT-CDO-ALLDAYEVENT:FALSE
SUMMARY:How to mentally prepare your teams for what's next
DESCRIPTION:The world of remote work isn't all fun and games and hilarious Zoom backgrounds. Behind the fun\, employee wellbeing is suffering. Experts anticipate a substantial increase in the prevalence of mental health concerns as a result of the pandemic\, and employers can't afford to sit back and hope that their employees aren't affected or that they will be able to manage everything on their own.\n\n\n\nLeaders need to adopt a new mindset to ensure they   and their teams   can thrive. A potentially mind-warping concept to wrap our heads around is that the new normal might mean there's no such thing as normal. To adapt to the pace of change that lies ahead\, employers and employees alike need to adopt a new mindset: make plans with the assumption that those plans will change.\n\n\n\nJoin us on August 11\, 1200-1300 ET for a lunch and learn "How to mentally prepare your teams for what's next." Hosted by Stratford's Leadership Development Practice Lead Dean Fulford and featuring Breanna Pizzuto\, founder of Talk Tools (experts in mental health\, communication skills\, and suicide intervention)\, we will learn about how leaders' mindset has to evolve to keep up with the pace of change around us and what you can do as a leader to ensure you are prioritizing the mental health and wellness of your team moving forward.\n\n\n\nRegister here --  https://register.gotowebinar.com/register/8829609843540878350
X-ALT-DESC;FMTTYPE=text/html:<span style="font-family:lato-regular\,helveticaneuew01-55roma\,helvetica neue\,helvetica\,arial\,sans-serif\; font-size:14px">The world of remote work isn&rsquo\;t all fun and games and hilarious Zoom backgrounds. Behind the fun\, employee wellbeing is suffering. Experts anticipate a substantial increase in the prevalence of mental health concerns as a result of the pandemic\, and employers can&rsquo\;t afford to sit back and hope that their employees aren&rsquo\;t affected or that they will be able to manage everything on their own.<br />\n<br />\nLeaders need to adopt a new mindset to ensure they &ndash\; and their teams &ndash\; can thrive. A potentially mind-warping concept to wrap our heads around is that the new normal might mean there&rsquo\;s no such thing as normal. To adapt to the pace of change that lies ahead\, employers and employees alike need to adopt a new mindset: make plans with the assumption that those plans will change.<br />\n<br />\nJoin us on <strong>August 11\, 1200-1300 ET</strong> for a lunch and learn &ldquo\;<em><strong>How to mentally prepare your teams for what&rsquo\;s next</strong></em>.&rdquo\; Hosted by Stratford&rsquo\;s Leadership Development Practice Lead Dean Fulford and featuring Breanna Pizzuto\, founder of Talk Tools (experts in mental health\, communication skills\, and suicide intervention)\, we will learn about how leaders&rsquo\; mindset has to evolve to keep up with the pace of change around us and what you can do as a leader to ensure you are prioritizing the mental health and wellness of your team moving forward.<br />\n<br />\nRegister here --&gt\;&nbsp\;</span><a href="https://register.gotowebinar.com/register/8829609843540878350">https://register.gotowebinar.com/register/8829609843540878350</a>
LOCATION:Register online https://register.gotowebinar.com/register/8829609843540878350
UID:e.3330.2227
SEQUENCE:3
DTSTAMP:20260421T125436Z
URL:https://business.ottawabot.ca/events/details/how-to-mentally-prepare-your-teams-for-what-s-next-2227
END:VEVENT

END:VCALENDAR
