BEGIN:VCALENDAR
VERSION:2.0
PRODID:-//ChamberMaster//Event Calendar 2.0//EN
METHOD:PUBLISH
X-PUBLISHED-TTL:P3D
REFRESH-INTERVAL:P3D
CALSCALE:GREGORIAN
BEGIN:VEVENT
DTSTART:20200608T170000Z
DTEND:20200608T190000Z
X-MICROSOFT-CDO-ALLDAYEVENT:FALSE
SUMMARY:Importing 101
DESCRIPTION:Importing 101 webinar for entrepreneurs: want to import products from the U.S.\, Mexico or overseas?\n\nAttend this webinar to learn the important regulatory\, logistics and customs aspects of the importing process
X-ALT-DESC;FMTTYPE=text/html:Importing 101 webinar for entrepreneurs: want to import products from the U.S.\, Mexico or overseas?<br />\nAttend this webinar to learn the important regulatory\, logistics and customs aspects of the importing process
LOCATION:On-line webinar
UID:e.3330.1744
SEQUENCE:3
DTSTAMP:20260421T094530Z
URL:https://business.ottawabot.ca/events/details/importing-101-06-08-2020-1744
END:VEVENT

END:VCALENDAR
