BEGIN:VCALENDAR
VERSION:2.0
PRODID:-//ChamberMaster//Event Calendar 2.0//EN
METHOD:PUBLISH
X-PUBLISHED-TTL:P3D
REFRESH-INTERVAL:P3D
CALSCALE:GREGORIAN
BEGIN:VEVENT
DTSTART:20200221T150000Z
DTEND:20200221T170000Z
X-MICROSOFT-CDO-ALLDAYEVENT:FALSE
SUMMARY:Importing 101
DESCRIPTION:Interested in importing products from the US or overseas but don't know where to start? This workshop is for you!
X-ALT-DESC;FMTTYPE=text/html:Interested in importing products from the US or overseas but don&#39\;t know where to start? This workshop is for you!
LOCATION:Invest Ottawa\, Bayview Yards
UID:e.3330.1625
SEQUENCE:3
DTSTAMP:20260424T182411Z
URL:https://business.ottawabot.ca/events/details/importing-101-1625
END:VEVENT

END:VCALENDAR
