BEGIN:VCALENDAR
VERSION:2.0
PRODID:-//ChamberMaster//Event Calendar 2.0//EN
METHOD:PUBLISH
X-PUBLISHED-TTL:P3D
REFRESH-INTERVAL:P3D
CALSCALE:GREGORIAN
BEGIN:VEVENT
DTSTART:20200305T000000Z
DTEND:20200305T010000Z
X-MICROSOFT-CDO-ALLDAYEVENT:FALSE
SUMMARY:Information Session - Treasures of Egypt
DESCRIPTION:The Ottawa Board of Trade\, Collette Travel and Bytown Travel are partnering to bring you Treasures of Egypt.  This 13 day trip will take you through the must sees of Egypt. \n\n\n\nHighlights include: Giza\, Pyramids\, Sphinx\, Memphis\, Sakkara\, Grand Egyptian Museum\, Luxor\, Valley of the Kings\, Deluxe 4-Night Nile River Cruise\, Temple of Karnak\, Kom Ombo\, Aswan and Old Cairo.\n\n\n\nFor more information on this amazing opportunity\, join us on March 4 for our first information session. \n\n\n\nSpace is limited and will be booked on a first-come first-serve basis.
X-ALT-DESC;FMTTYPE=text/html:<span style="font-family:arial\;"><span style="font-size:12px\;">The Ottawa Board of Trade\, Collette Travel and Bytown Travel are partnering to bring you Treasures of Egypt.&nbsp\; This 13 day trip will take you through the must sees of Egypt.&nbsp\;<br />\n<br />\nHighlights include:&nbsp\;<span style="color: rgb(56\, 58\, 61)\;">Giza\, Pyramids\, Sphinx\, Memphis\, Sakkara\, Grand Egyptian Museum\, Luxor\, Valley of the Kings\, Deluxe 4-Night Nile River Cruise\, Temple of Karnak\, Kom Ombo\, Aswan and Old Cairo.<br />\n<br />\nFor more information on this amazing opportunity\, join us on March 4 for our first information session.&nbsp\;<br />\n<br />\nSpace is limited and will be booked on a first-come first-serve basis.&nbsp\;</span></span></span>
LOCATION:Head Office Ottawa 430 Hazeldean Road\, Unit #6 Ottawa\, ON K2L 1T9
UID:e.3330.1107
SEQUENCE:3
DTSTAMP:20260424T165619Z
URL:https://business.ottawabot.ca/events/details/information-session-treasures-of-egypt-1107
END:VEVENT

END:VCALENDAR
