BEGIN:VCALENDAR
VERSION:2.0
PRODID:-//ChamberMaster//Event Calendar 2.0//EN
METHOD:PUBLISH
X-PUBLISHED-TTL:P3D
REFRESH-INTERVAL:P3D
CALSCALE:GREGORIAN
BEGIN:VEVENT
DTSTART:20210921T173000Z
DTEND:20210921T193000Z
X-MICROSOFT-CDO-ALLDAYEVENT:FALSE
SUMMARY:Interview Skills Workshop
DESCRIPTION:Job interviews can be quite nerve-racking .. but with the right tools and strategies\, you can alleviate some of the stress and ace it! This webinar will review various aspects of what it takes to prepare for and be successful in the employment interview process. Learn about different types of interviews\, stages within an interview and strategies and techniques to help you.
X-ALT-DESC;FMTTYPE=text/html:<div>\n<div>Job interviews can be quite nerve-racking .. but with the right tools and strategies\, you can alleviate some of the stress and ace it! This webinar will review various aspects of what it takes to prepare for and be successful in the employment interview process. Learn about different types of interviews\, stages within an interview and strategies and techniques to help you.</div>\n\n<div>&nbsp\;</div>\n</div>\n
LOCATION:The webinar will be offered via Zoom. Register here: https://slc.totalhire.com/event-subscribe.php?e=1338
UID:e.3330.2597
SEQUENCE:3
DTSTAMP:20260423T174840Z
URL:https://business.ottawabot.ca/events/details/interview-skills-workshop-09-21-2021-2597
END:VEVENT

END:VCALENDAR
