BEGIN:VCALENDAR
VERSION:2.0
PRODID:-//ChamberMaster//Event Calendar 2.0//EN
METHOD:PUBLISH
X-PUBLISHED-TTL:P3D
REFRESH-INTERVAL:P3D
CALSCALE:GREGORIAN
BEGIN:VEVENT
DTSTART:20201208T170000Z
DTEND:20201208T180000Z
X-MICROSOFT-CDO-ALLDAYEVENT:FALSE
SUMMARY:Logistics challenges and opportunities in pandemic times
DESCRIPTION:Logistics challenges and opportunities in pandemic times: a discussion moderated by Vincent Galland\, president of the Swiss Canadian Chamber of Commerce Qu bec\, which will bring together a presentation of the current logistical challenges by Ottawa Board of Trade member Christian Sivi re\, president of Solimpex and expert consultant in import-export and the case study of a Swiss company adapting to this crisis: L derach chocolatier suisse\, presented by Nathanael Hausmann\, president of the company's North American territory.\n\nWhat are the impacts on supply chains? How can we distinguish ourselves?
X-ALT-DESC;FMTTYPE=text/html:Logistics challenges and opportunities in pandemic times: a<span style="background-color:rgb(255\, 255\, 255)\; color:rgb(35\, 35\, 51)\; font-family:lato\,helvetica\,arial\; font-size:14px">&nbsp\;discussion moderated by Vincent Galland\, president of the Swiss Canadian Chamber of Commerce Qu&eacute\;bec\, which will bring together a presentation of the current logistical challenges&nbsp\;by Ottawa Board of Trade member Christian Sivi&egrave\;re\, president of Solimpex and expert consultant in import-export and the case study of a Swiss company adapting to this crisis:&nbsp\;L&auml\;derach chocolatier suisse\, presented by Nathanael Hausmann\, president of the company&#39\;s North American territory.</span><br />\n<span style="background-color:rgb(255\, 255\, 255)\; color:rgb(35\, 35\, 51)\; font-family:lato\,helvetica\,arial\; font-size:14px">What are the impacts on supply chains? How can we distinguish ourselves?</span>
LOCATION:On line
UID:e.3330.2415
SEQUENCE:3
DTSTAMP:20260421T231744Z
URL:https://business.ottawabot.ca/events/details/logistics-challenges-and-opportunities-in-pandemic-times-2415
END:VEVENT

END:VCALENDAR
