BEGIN:VCALENDAR
VERSION:2.0
PRODID:-//ChamberMaster//Event Calendar 2.0//EN
METHOD:PUBLISH
X-PUBLISHED-TTL:P3D
REFRESH-INTERVAL:P3D
CALSCALE:GREGORIAN
BEGIN:VEVENT
DTSTART:20200427T170000Z
DTEND:20200427T190000Z
X-MICROSOFT-CDO-ALLDAYEVENT:FALSE
SUMMARY:NAFTA 2.0 (CUSMA-USMCA-TMEC): get ready!
DESCRIPTION:NAFTA 2.0 (CUSMA-USMCA-TMEC): get ready for the new NAFTA between Canada\, the United States and Mexico\, due to come into effect this summer and how Canadian SME's can benefit from it\, either exporting goods there or sourcing products from the US and Mexico. Get familiar with the rules of origin and other important requirements\, logistics\, documentary and customs issues. This webinar will explain the basics and outline the changes contained in the new Agreement.
X-ALT-DESC;FMTTYPE=text/html:NAFTA 2.0 (CUSMA-USMCA-TMEC): get ready for the new NAFTA between Canada\, the United States and Mexico\, due to come into effect this summer and how Canadian SME&#39\;s can benefit from it\, either exporting goods there or sourcing products from the US and Mexico. Get familiar with the rules of origin and other important requirements\, logistics\, documentary and customs issues. This webinar will explain the basics and outline the changes contained in the new Agreement.
LOCATION:On line
UID:e.3330.1708
SEQUENCE:3
DTSTAMP:20260424T141415Z
URL:https://business.ottawabot.ca/events/details/nafta-2-0-cusma-usmca-tmec-get-ready-1708
END:VEVENT

END:VCALENDAR
