BEGIN:VCALENDAR
VERSION:2.0
PRODID:-//ChamberMaster//Event Calendar 2.0//EN
METHOD:PUBLISH
X-PUBLISHED-TTL:P3D
REFRESH-INTERVAL:P3D
CALSCALE:GREGORIAN
BEGIN:VEVENT
DTSTART:20220810T220000Z
DTEND:20220811T030000Z
X-MICROSOFT-CDO-ALLDAYEVENT:FALSE
SUMMARY:Ottawa BlackJacks CEBL Awards Gala
DESCRIPTION:Fourth Annual CEBL Awards Show
X-ALT-DESC;FMTTYPE=text/html:<div style="box-sizing: border-box\; border: 0px solid rgb(51\, 51\, 51)\; vertical-align: top\; -webkit-font-smoothing: antialiased\; list-style-type: none\; text-indent: -1.5em\; margin: 0px 1em\; margin-inline: 2em 0px\;"><span style="box-sizing: border-box\; border: 0px solid rgb(51\, 51\, 51)\; -webkit-font-smoothing: antialiased\; display: unset\;">Fourth Annual CEBL Awards Show</span></div>\n
LOCATION:Casino Lac Leamy
UID:e.3330.2923
SEQUENCE:3
DTSTAMP:20260421T083336Z
URL:https://business.ottawabot.ca/events/details/ottawa-blackjacks-cebl-awards-gala-2923
END:VEVENT

END:VCALENDAR
