BEGIN:VCALENDAR
VERSION:2.0
PRODID:-//ChamberMaster//Event Calendar 2.0//EN
METHOD:PUBLISH
X-PUBLISHED-TTL:P3D
REFRESH-INTERVAL:P3D
CALSCALE:GREGORIAN
BEGIN:VEVENT
DTSTART:20200414T120000Z
DTEND:20200414T130000Z
X-MICROSOFT-CDO-ALLDAYEVENT:FALSE
SUMMARY:Ottawa Board of Trade Town Hall
DESCRIPTION:The Ottawa Board of Trade is hosting a virtual Town Hall meeting on Tuesday\, April 14 at 8:00 am\, so you can interact with our leaders from all levels of government\; Mayor Jim Watson\, Hon. Lisa MacLeod and Hon. Mona Fortier.\n\n \n\nIMPORTANT:\n\nIf you have questions that you would like directed to one or all of the panelists\, please send them to:\n\nEmail: StrongerTogether@ottawabot.ca\n\nSubject: OBOT Town Hall   April 14\, 2020 at 8 am\n\n \n\nThe registration link will be emailed to those registered prior to the event. You must register in advance.\n\n \nAgenda:\n\n\n	Opening remarks from each of the panelists\n	Q&A
X-ALT-DESC;FMTTYPE=text/html:<p style="box-sizing: inherit\; margin: 0px\; padding: 0px\; border: 0px\; font-size: 18px\; vertical-align: baseline\; background-image: initial\; background-position: initial\; background-size: initial\; background-repeat: initial\; background-attachment: initial\; background-origin: initial\; background-clip: initial\; line-height: 1.5\; color: rgba(0\, 0\, 0\, 0.9)\; cursor: text\; counter-reset: list-1 0 list-2 0 list-3 0 list-4 0 list-5 0 list-6 0 list-7 0 list-8 0 list-9 0\; font-family: -apple-system\, system-ui\, BlinkMacSystemFont\, &quot\;Segoe UI&quot\;\, Roboto\, &quot\;Helvetica Neue&quot\;\, &quot\;Fira Sans&quot\;\, Ubuntu\, Oxygen\, &quot\;Oxygen Sans&quot\;\, Cantarell\, &quot\;Droid Sans&quot\;\, &quot\;Apple Color Emoji&quot\;\, &quot\;Segoe UI Emoji&quot\;\, &quot\;Segoe UI Symbol&quot\;\, &quot\;Lucida Grande&quot\;\, Helvetica\, Arial\, sans-serif\; white-space: pre-wrap\;"><span style="font-size:14px\;"><span style="font-family:arial\;">The Ottawa Board of Trade is hosting a virtual Town Hall meeting on Tuesday\, April 14 at 8:00 am\, so you can interact with our leaders from all levels of government\; Mayor Jim Watson\, Hon. Lisa MacLeod and Hon. </span></span><span style="color: rgba(0\, 0\, 0\, 0.9)\; font-family: arial\; font-size: 14px\; white-space: pre-wrap\;">Mona Fortier.</span></p>\n\n<p style="box-sizing: inherit\; margin: 0px\; padding: 0px\; border: 0px\; font-size: 18px\; vertical-align: baseline\; background-image: initial\; background-position: initial\; background-size: initial\; background-repeat: initial\; background-attachment: initial\; background-origin: initial\; background-clip: initial\; line-height: 1.5\; color: rgba(0\, 0\, 0\, 0.9)\; cursor: text\; counter-reset: list-1 0 list-2 0 list-3 0 list-4 0 list-5 0 list-6 0 list-7 0 list-8 0 list-9 0\; font-family: -apple-system\, system-ui\, BlinkMacSystemFont\, &quot\;Segoe UI&quot\;\, Roboto\, &quot\;Helvetica Neue&quot\;\, &quot\;Fira Sans&quot\;\, Ubuntu\, Oxygen\, &quot\;Oxygen Sans&quot\;\, Cantarell\, &quot\;Droid Sans&quot\;\, &quot\;Apple Color Emoji&quot\;\, &quot\;Segoe UI Emoji&quot\;\, &quot\;Segoe UI Symbol&quot\;\, &quot\;Lucida Grande&quot\;\, Helvetica\, Arial\, sans-serif\; white-space: pre-wrap\;">&nbsp\;</p>\n\n<p style="box-sizing: inherit\; margin: 0px\; padding: 0px\; border: 0px\; font-size: 18px\; vertical-align: baseline\; background-image: initial\; background-position: initial\; background-size: initial\; background-repeat: initial\; background-attachment: initial\; background-origin: initial\; background-clip: initial\; line-height: 1.5\; color: rgba(0\, 0\, 0\, 0.9)\; cursor: text\; counter-reset: list-1 0 list-2 0 list-3 0 list-4 0 list-5 0 list-6 0 list-7 0 list-8 0 list-9 0\; font-family: -apple-system\, system-ui\, BlinkMacSystemFont\, &quot\;Segoe UI&quot\;\, Roboto\, &quot\;Helvetica Neue&quot\;\, &quot\;Fira Sans&quot\;\, Ubuntu\, Oxygen\, &quot\;Oxygen Sans&quot\;\, Cantarell\, &quot\;Droid Sans&quot\;\, &quot\;Apple Color Emoji&quot\;\, &quot\;Segoe UI Emoji&quot\;\, &quot\;Segoe UI Symbol&quot\;\, &quot\;Lucida Grande&quot\;\, Helvetica\, Arial\, sans-serif\; white-space: pre-wrap\;"><span style="font-size:14px\;"><span style="font-family:arial\;"><u><strong>IMPORTANT:</strong></u><br />\nIf you have questions that you would like directed to one or all of the panelists\, please send them to:<br />\n<strong>Email</strong>: StrongerTogether@ottawabot.ca<br />\n<strong>Subject</strong>: OBOT Town Hall &ndash\; April 14\, 2020 at 8 am</span></span></p>\n\n<p style="box-sizing: inherit\; margin: 0px\; padding: 0px\; border: 0px\; font-size: 18px\; vertical-align: baseline\; background-image: initial\; background-position: initial\; background-size: initial\; background-repeat: initial\; background-attachment: initial\; background-origin: initial\; background-clip: initial\; line-height: 1.5\; color: rgba(0\, 0\, 0\, 0.9)\; cursor: text\; counter-reset: list-1 0 list-2 0 list-3 0 list-4 0 list-5 0 list-6 0 list-7 0 list-8 0 list-9 0\; font-family: -apple-system\, system-ui\, BlinkMacSystemFont\, &quot\;Segoe UI&quot\;\, Roboto\, &quot\;Helvetica Neue&quot\;\, &quot\;Fira Sans&quot\;\, Ubuntu\, Oxygen\, &quot\;Oxygen Sans&quot\;\, Cantarell\, &quot\;Droid Sans&quot\;\, &quot\;Apple Color Emoji&quot\;\, &quot\;Segoe UI Emoji&quot\;\, &quot\;Segoe UI Symbol&quot\;\, &quot\;Lucida Grande&quot\;\, Helvetica\, Arial\, sans-serif\; white-space: pre-wrap\;">&nbsp\;</p>\n\n<p style="box-sizing: inherit\; margin: 0px\; padding: 0px\; border: 0px\; font-size: 18px\; vertical-align: baseline\; background-image: initial\; background-position: initial\; background-size: initial\; background-repeat: initial\; background-attachment: initial\; background-origin: initial\; background-clip: initial\; line-height: 1.5\; color: rgba(0\, 0\, 0\, 0.9)\; cursor: text\; counter-reset: list-1 0 list-2 0 list-3 0 list-4 0 list-5 0 list-6 0 list-7 0 list-8 0 list-9 0\; font-family: -apple-system\, system-ui\, BlinkMacSystemFont\, &quot\;Segoe UI&quot\;\, Roboto\, &quot\;Helvetica Neue&quot\;\, &quot\;Fira Sans&quot\;\, Ubuntu\, Oxygen\, &quot\;Oxygen Sans&quot\;\, Cantarell\, &quot\;Droid Sans&quot\;\, &quot\;Apple Color Emoji&quot\;\, &quot\;Segoe UI Emoji&quot\;\, &quot\;Segoe UI Symbol&quot\;\, &quot\;Lucida Grande&quot\;\, Helvetica\, Arial\, sans-serif\; white-space: pre-wrap\;"><span style="font-family: arial\; font-size: 14px\;">The registration link will be emailed to those registered prior to the event.&nbsp\;You must register in advance.</span></p>\n\n<p style="box-sizing: inherit\; margin: 0px\; padding: 0px\; border: 0px\; font-size: 18px\; vertical-align: baseline\; background-image: initial\; background-position: initial\; background-size: initial\; background-repeat: initial\; background-attachment: initial\; background-origin: initial\; background-clip: initial\; line-height: 1.5\; color: rgba(0\, 0\, 0\, 0.9)\; cursor: text\; counter-reset: list-1 0 list-2 0 list-3 0 list-4 0 list-5 0 list-6 0 list-7 0 list-8 0 list-9 0\; font-family: -apple-system\, system-ui\, BlinkMacSystemFont\, &quot\;Segoe UI&quot\;\, Roboto\, &quot\;Helvetica Neue&quot\;\, &quot\;Fira Sans&quot\;\, Ubuntu\, Oxygen\, &quot\;Oxygen Sans&quot\;\, Cantarell\, &quot\;Droid Sans&quot\;\, &quot\;Apple Color Emoji&quot\;\, &quot\;Segoe UI Emoji&quot\;\, &quot\;Segoe UI Symbol&quot\;\, &quot\;Lucida Grande&quot\;\, Helvetica\, Arial\, sans-serif\; white-space: pre-wrap\;">&nbsp\;</p>\n<span style="font-size:14px\;"><span style="font-family:arial\;">Agenda:</span></span>\n\n<ul>\n	<li style="margin-left:0cm\;"><span style="font-size:14px\;"><span style="font-family:arial\;">Opening remarks from each of the panelists</span></span></li>\n	<li style="margin-left:0cm\;"><span style="font-size:14px\;"><span style="font-family:arial\;">Q&amp\;A</span></span></li>\n</ul>\n
LOCATION:Virtual Event - ZOOM Link will be sent to registrants prior to the event.
UID:e.3330.1702
SEQUENCE:3
DTSTAMP:20260423T183701Z
URL:https://business.ottawabot.ca/events/details/ottawa-board-of-trade-town-hall-1702
END:VEVENT

END:VCALENDAR
