BEGIN:VCALENDAR
VERSION:2.0
PRODID:-//ChamberMaster//Event Calendar 2.0//EN
METHOD:PUBLISH
X-PUBLISHED-TTL:P3D
REFRESH-INTERVAL:P3D
CALSCALE:GREGORIAN
BEGIN:VEVENT
DTSTART:20200515T150000Z
DTEND:20200515T160000Z
X-MICROSOFT-CDO-ALLDAYEVENT:FALSE
SUMMARY:Ottawa Board of Trade Town Hall
DESCRIPTION:The Ottawa Board of Trade is hosting a virtual Town Hall meeting on Friday\, May 15 at 11:00 am featuring Mayor Jim Watson and Hon. Merrilee Fullerton.\n\n\n\nIMPORTANT:\n\nIf you have questions that you would like directed to our panelists\, please send them to:\n\nEmail: StrongerTogether@ottawabot.ca\n\nSubject: OBOT Town Hall - May 15\, 2020 \n\n \n\nThe registration link will be emailed to those registered prior to the event. You must register in advance.\n\n\n\nAgenda:\n\n	Opening remarks from each of the panelists\n	Q&A
X-ALT-DESC;FMTTYPE=text/html:<span style="font-size:16px\;"><span style="font-family:arial\;">The Ottawa Board of Trade is hosting a virtual Town Hall meeting on Friday\, May 15 at 11:00 am featuring Mayor Jim Watson and Hon.&nbsp\;<span class="JsGRdQ">Merrilee Fullerton.</span></span><br />\n<br />\n<strong><u><span style="font-family:arial\,sans-serif\;">IMPORTANT:</span></u></strong><br />\n<span style="font-family:arial\,sans-serif\;">If you have questions that you would like directed to our panelists\, please send them to:<br />\n<strong>Email</strong>: StrongerTogether@ottawabot.ca<br />\n<strong>Subject</strong>: OBOT Town Hall - May 15\, 2020&nbsp\;</span><br />\n&nbsp\;<br />\n<span style="font-family:arial\,sans-serif\;">The registration link will be emailed to those registered prior to the event.&nbsp\;You must register in advance.</span><br />\n<br />\n<span style="color:#333333\;"><span style="font-family:arial\,sans-serif\;">Agenda:</span></span></span>\n<ul>\n	<li style="color:#333333\;line-height:normal\;"><span style="font-size:16px\;"><span style="font-family:arial\,sans-serif\;">Opening remarks from each of the panelists</span></span></li>\n	<li style="color:#333333\;line-height:normal\;"><span style="font-size:16px\;"><span style="font-family:arial\,sans-serif\;">Q&amp\;A</span></span></li>\n</ul>\n\n<div style="color:#333333\;line-height:normal\;">\n<p><span style="font-size:12.0pt\;font-family:&quot\;Times New Roman&quot\;\,serif\;\ncolor:black"><o:p></o:p></span></p>\n</div>\n
LOCATION:Virtual Event - ZOOM Link will be sent to registrants prior to the event.
UID:e.3330.1732
SEQUENCE:3
DTSTAMP:20260424T141736Z
URL:https://business.ottawabot.ca/events/details/ottawa-board-of-trade-town-hall-1732
END:VEVENT

END:VCALENDAR
