BEGIN:VCALENDAR
VERSION:2.0
PRODID:-//ChamberMaster//Event Calendar 2.0//EN
METHOD:PUBLISH
X-PUBLISHED-TTL:P3D
REFRESH-INTERVAL:P3D
CALSCALE:GREGORIAN
BEGIN:VEVENT
DTSTART:20210929T223000Z
DTEND:20210929T233000Z
X-MICROSOFT-CDO-ALLDAYEVENT:FALSE
SUMMARY:Parcours de Femmes: Le café du Burundi à l'honneur avec Deborah Ntawigirira
DESCRIPTION:La s rie   Parcours de femmes   veut mettre en lumi re les femmes entrepreneures qui ont os  se r aliser en endossant le r le de cheffe d'entreprise.\n\nVenez c l brer avec moi leur r ussite et nous inspirer de leur audace pour alimenter notre feu entrepreneurial  S'inspirer. Oser. Se r aliser\n\nCe mois-ci\, le caf  du Burundi est   l'honneur avec Deborah Ntawigirira\, qui a co-fond  Izere Coffee avec sa maman\, pour apporter un peu de leur pays d'origine\, le Burundi\, au Canada leur pays d'adoption. Elles fournissent donc un caf  burundais de haute qualit    diff rents march s tout en autonomisant les agriculteurs locaux qui r coltent les grains\, avec la pratique du commerce direct.\n\nVenez  changer avec elle afin de d couvrir ce qui la destinait   l'entrepreneuriat\, comment son id e entrepreneuriale a germ  et quelle a  t  l' tincelle qui a fait qu'elle passe   l'action. D couvrez aussi ce qui la rend la plus fi re\, tout comme les gal res qu'elle a travers es et les ressors pour les surmonter.\n\nInscrivez-vous directement sur le site web de la Soci t   conomique de l'Ontario pour obtenir le lien Zoom: ICI\n\nPour toute information\, contactez: tblais@seo-ont.ca
X-ALT-DESC;FMTTYPE=text/html:<p>La s&eacute\;rie &laquo\; <strong>Parcours de femmes</strong> &raquo\; veut mettre en lumi&egrave\;re les<strong>&nbsp\;femmes entrepreneures&nbsp\;</strong>qui ont os&eacute\; se r&eacute\;aliser en endossant le r&ocirc\;le de cheffe d&rsquo\;entreprise.</p>\n\n<p>Venez c&eacute\;l&eacute\;brer avec moi leur r&eacute\;ussite et nous inspirer de leur audace pour alimenter notre&nbsp\;<strong>feu entrepreneurial</strong>&hellip\;&nbsp\;<strong>S&rsquo\;inspirer. Oser. Se r&eacute\;aliser</strong></p>\n\n<p>Ce mois-ci\, le&nbsp\;<strong>caf&eacute\; du Burundi est &agrave\; l&#39\;honneur avec Deborah Ntawigirira</strong>\, qui a co-fond&eacute\;&nbsp\;<a href="https://izerecoffee.com/fr/" rel="nofollow noopener noreferrer" style="color: var(--eds-control\,#3659e3)\; text-decoration-line: none\; cursor: pointer\; background-color: transparent\;" target="_blank">Izere Coffee</a>&nbsp\;avec sa maman\, pour apporter un peu de leur pays d&#39\;origine\, le Burundi\, au Canada leur pays d&#39\;adoption. Elles fournissent donc un caf&eacute\; burundais de haute qualit&eacute\; &agrave\; diff&eacute\;rents march&eacute\;s tout en&nbsp\;<strong>autonomisant les agriculteurs locaux</strong>&nbsp\;qui r&eacute\;coltent les grains\, avec la pratique du commerce direct.</p>\n\n<p>Venez &eacute\;changer avec elle afin de d&eacute\;couvrir ce qui la destinait &agrave\; l&#39\;entrepreneuriat\, comment son id&eacute\;e entrepreneuriale a germ&eacute\; et quelle a &eacute\;t&eacute\; l&#39\;&eacute\;tincelle qui a fait qu&#39\;elle passe &agrave\; l&#39\;action. D&eacute\;couvrez aussi ce qui la rend la plus fi&egrave\;re\, tout comme les gal&egrave\;res qu&#39\;elle a travers&eacute\;es et les ressors pour les surmonter.</p>\n\n<p>Inscrivez-vous directement sur le site web de la Soci&eacute\;t&eacute\; &Eacute\;conomique de l&#39\;Ontario pour obtenir le lien Zoom:<a href="https://seo-ont.ca/parcours-de-femmes-le-cafe-du-burundi-lhonneur-avec-deborah-ntawigirira">&nbsp\;</a><a href="https://seo-ont.ca/parcours-de-femmes-le-cafe-du-burundi-lhonneur-avec-deborah-ntawigirira" rel="nofollow noopener noreferrer" style="color: var(--eds-control\,#3659e3)\; text-decoration-line: none\; cursor: pointer\; background-color: transparent\; padding-top: 0px\;" target="_blank">ICI</a></p>\n\n<p>Pour toute information\, contactez: tblais@seo-ont.ca</p>\n
LOCATION:Offert en fran ais par la Soci t conomique de l'Ontario. Via Zoom. Inscrivez-vous pour acc der au lien Zoom: Pour vous inscrire: https://seo-ont.ca/parcours-de-femmes-le-cafe-du-burundi-lhonneur-avec-deborah-ntawigirira
UID:e.3330.2605
SEQUENCE:3
DTSTAMP:20260423T191350Z
URL:https://business.ottawabot.ca/events/details/parcours-de-femmes-le-caf&#233;-du-burundi-&#224;-l-honneur-avec-deborah-ntawigirira-2605
END:VEVENT

END:VCALENDAR
