BEGIN:VCALENDAR
VERSION:2.0
PRODID:-//ChamberMaster//Event Calendar 2.0//EN
METHOD:PUBLISH
X-PUBLISHED-TTL:P3D
REFRESH-INTERVAL:P3D
CALSCALE:GREGORIAN
BEGIN:VEVENT
DTSTART:20200818T170000Z
DTEND:20200818T183000Z
X-MICROSOFT-CDO-ALLDAYEVENT:FALSE
SUMMARY:Risk management and cargo insurance
DESCRIPTION:For shippers-importers-exporters: this webinar will explain cargo insurance\, an affordable and effective risk management tool to protect your cargo. A particularly important topic in this period of disruptions and as transport companies offer very low compensation for losses\, be they truckers\, couriers\, ocean lines or airlines. Be protected for 100% or more of your cargo value with cargo insurance!\n\nWebinar given by Ottawa Board of Trade member Christian Sivi re of Solimpex\, on behalf of the Canadian International Freight Forwarders Association (CIFFA)
X-ALT-DESC;FMTTYPE=text/html:For shippers-importers-exporters: this webinar will explain cargo insurance\, an affordable and effective risk management tool to protect your cargo. A particularly important topic in this period of disruptions and as transport companies offer very low compensation for losses\, be they truckers\, couriers\, ocean lines or airlines. Be protected for 100% or more of your cargo value with cargo insurance!<br />\nWebinar given by Ottawa Board of Trade member Christian Sivi&egrave\;re of Solimpex\, on behalf of the Canadian International Freight Forwarders Association (CIFFA)
LOCATION:On-line
UID:e.3330.2245
SEQUENCE:3
DTSTAMP:20260421T125124Z
URL:https://business.ottawabot.ca/events/details/risk-management-and-cargo-insurance-2245
END:VEVENT

END:VCALENDAR
