BEGIN:VCALENDAR
VERSION:2.0
PRODID:-//ChamberMaster//Event Calendar 2.0//EN
METHOD:PUBLISH
X-PUBLISHED-TTL:P3D
REFRESH-INTERVAL:P3D
CALSCALE:GREGORIAN
BEGIN:VEVENT
DTSTART:20201117T180000Z
DTEND:20201117T193000Z
X-MICROSOFT-CDO-ALLDAYEVENT:FALSE
SUMMARY:Session 1: Shipping your products to the US
DESCRIPTION:Session 1\n\n\n\nShipping your products to the US: logistics\, customs and regulatory aspects Webinar given by Ottawa Board of Trade member Christian Sivi re of Solimpex\, on behalf of the Canadian International Freight Forwarders Association
X-ALT-DESC;FMTTYPE=text/html:<span style="font-size:14px\;"><strong>Session 1</strong></span><br />\n<br />\nShipping your products to the US: logistics\, customs and regulatory aspects Webinar given by Ottawa Board of Trade member Christian Sivi&egrave\;re of Solimpex\, on behalf of the Canadian International Freight Forwarders Association
LOCATION:On line
UID:e.3330.2407
SEQUENCE:3
DTSTAMP:20260421T201353Z
URL:https://business.ottawabot.ca/events/details/session-1-shipping-your-products-to-the-us-2407
END:VEVENT

END:VCALENDAR
