BEGIN:VCALENDAR
VERSION:2.0
PRODID:-//ChamberMaster//Event Calendar 2.0//EN
METHOD:PUBLISH
X-PUBLISHED-TTL:P3D
REFRESH-INTERVAL:P3D
CALSCALE:GREGORIAN
BEGIN:VEVENT
DTSTART:20200812T140000Z
DTEND:20200812T150000Z
X-MICROSOFT-CDO-ALLDAYEVENT:FALSE
SUMMARY:Setting Quarterly Goals
DESCRIPTION:1 Hour Workshop on Setting Quarterly Goals
X-ALT-DESC;FMTTYPE=text/html:1 Hour Workshop on Setting Quarterly Goals<br />\n&nbsp\;
LOCATION:Zoom
UID:e.3330.2224
SEQUENCE:3
DTSTAMP:20260421T112251Z
URL:https://business.ottawabot.ca/events/details/setting-quarterly-goals-2224
END:VEVENT

END:VCALENDAR
