BEGIN:VCALENDAR
VERSION:2.0
PRODID:-//ChamberMaster//Event Calendar 2.0//EN
METHOD:PUBLISH
X-PUBLISHED-TTL:P3D
REFRESH-INTERVAL:P3D
CALSCALE:GREGORIAN
BEGIN:VEVENT
DTSTART:20200616T160000Z
DTEND:20200616T170000Z
X-MICROSOFT-CDO-ALLDAYEVENT:FALSE
SUMMARY:Shifting Landscapes Virtual Roundtable: Social Finance and Social Purpose Organizations
DESCRIPTION:You are invited to join the Sprott School of Business for a virtual roundtable discussion on the social finance landscape in a post-COVID world\, and what it means for social purpose organizations. Delve deeper into the conversation started through the Shifting Landscapes forum\n\nAs part of the #buildbackbetter movement\, many are looking to re-envision a more caring capitalism. This includes how we think about organizations as change agents\, for example challenging the sharp division between charity and business\, as well as redefining the nature and purpose of finance. This virtual roundtable will contemplate how COVID-19 is creating opportunity and impediment for social finance and social purpose organizations and how this might affect the well-being of people and planet. Hosts: Kate Ruff and Tessa Hebb
X-ALT-DESC;FMTTYPE=text/html:<p>You are invited to join the Sprott School of Business for a virtual roundtable discussion on the social finance landscape in a post-COVID world\, and what it means for social purpose organizations. Delve deeper into the conversation started through the <a href="https://sprott.carleton.ca/shifting-landscapes/">Shifting Landscapes</a> forum</p>\n\n<p>As part of the #buildbackbetter movement\, many are looking to re-envision a more caring capitalism. This includes how we think about organizations as change agents\, for example challenging the sharp division between charity and business\, as well as redefining the nature and purpose of finance. This virtual roundtable will contemplate how COVID-19 is creating opportunity and impediment for social finance and social purpose organizations and how this might affect the well-being of people and planet. Hosts: <a href="https://sprott.carleton.ca/profile/kate-ruff/" rel="noopener" target="_blank">Kate Ruff</a> and <a href="https://sprott.carleton.ca/profile/tessa-hebb/">Tessa Hebb</a></p>\n
LOCATION:Online (Link will be emailed to registrants)
UID:e.3330.1746
SEQUENCE:3
DTSTAMP:20260421T100557Z
URL:https://business.ottawabot.ca/events/details/shifting-landscapes-virtual-roundtable-social-finance-and-social-purpose-organizations-1746
END:VEVENT

END:VCALENDAR
