BEGIN:VCALENDAR
VERSION:2.0
PRODID:-//ChamberMaster//Event Calendar 2.0//EN
METHOD:PUBLISH
X-PUBLISHED-TTL:P3D
REFRESH-INTERVAL:P3D
CALSCALE:GREGORIAN
BEGIN:VEVENT
DTSTART:20201118T133000Z
DTEND:20201118T170000Z
X-MICROSOFT-CDO-ALLDAYEVENT:FALSE
SUMMARY:Solving Complex Problems in Creative Ways
DESCRIPTION:This session is part of the Developing Leaders Series (DLS). The DLS was designed for the senior management in small-mid sized enterprises (SME) including not-for-profits. The series focuses on peer-based learning and training on the most important leadership competencies.\n\nDelivered via Zoom with interactive features\, participants are encouraged to actively participate in the sessions including sharing their video to make the session a positive experience for all.\n\n\n\nSolving Complex Problems in Creative Ways\n\n\n\nTickets: https://www.eventbrite.ca/e/dls-solving-complex-problems-in-creative-ways-tickets-113884030200\n\nWe are living through accelerated social and digital transformations\, impacting how we work and how we solve complex problems. Leading in this context of uncertainty requires collaborative and creative approaches while co-creating effective solutions with your clients and employees.\n\nYou can be more responsive\, effective and empathic with your end-users by applying design thinking skills that emphasize the application of emotional intelligence to the identification of the real problems your stakeholders are facing. Exploring the initial phase of the design thinking process with a practical application\, you will develop user personas\, identify unarticulated needs and map experience journeys. In the process\, you will discover a powerful\, human-centred approach to problem solving that can minimize risks for your organization\, while increasing your resilience and creativity in the face of complex problems and continuous change.\n\nThis session will be led by Sylvie Plante and moderated by Claude Haw.\n\n\n\nAgenda\n\n\n	8:30 - Introductions\n	8:45 - Part 1\, includes 1-2 break-out exercises\n	10:00 - Break\n	10:15 - Part 2\, includes 1-2 break-out exercises\n	11:30 - Q&A & wrap-up\n\n\n\n\nRegistration\n\nMore details and registration can be found on our Eventbrite page for this session.
X-ALT-DESC;FMTTYPE=text/html:<div>\n<p>This session is part of the&nbsp\;<a href="https://www.businesssherpagroup.com/solutions/executive-solutions/developing-leaders-series/">Developing Leaders Series</a>&nbsp\;(DLS). The DLS was designed for the senior management in small-mid sized enterprises (SME) including not-for-profits. The series focuses on peer-based learning and training on the most important leadership competencies.</p>\n\n<p>Delivered via Zoom with interactive features\, participants are encouraged to actively participate in the sessions including sharing their video to make the session a positive experience for all.</p>\n\n<h3><br />\nSolving Complex Problems in Creative Ways</h3>\n</div>\n\n<div>\n<p><strong>Tickets:&nbsp\;</strong><a href="https://www.eventbrite.ca/e/dls-solving-complex-problems-in-creative-ways-tickets-113884030200">https://www.eventbrite.ca/e/dls-solving-complex-problems-in-creative-ways-tickets-113884030200</a></p>\n\n<p>We are living through accelerated social and digital transformations\, impacting how we work and how we solve complex problems. Leading in this context of uncertainty requires collaborative and creative approaches while co-creating effective solutions with your clients and employees.</p>\n\n<p>You can be more responsive\, effective and empathic with your end-users by applying design thinking skills that emphasize the application of emotional intelligence to the identification of the real problems your stakeholders are facing. Exploring the initial phase of the design thinking process with a practical application\, you will develop user personas\, identify unarticulated needs and map experience journeys. In the process\, you will discover a powerful\, human-centred approach to problem solving that can minimize risks for your organization\, while increasing your resilience and creativity in the face of complex problems and continuous change.</p>\n\n<p>This session will be led by&nbsp\;<a href="https://www.linkedin.com/in/enterprisechanneling/" rel="nofollow noopener noreferrer" style="color: var(--eds-control\,#3659e3)\; text-decoration-line: none\; cursor: pointer\; background-color: transparent\; padding-top: 0px\;" target="_blank">Sylvie Plante</a>&nbsp\;and moderated by&nbsp\;<a href="https://www.linkedin.com/in/claudehaw/" rel="nofollow noopener noreferrer" style="color: var(--eds-control\,#3659e3)\; text-decoration-line: none\; cursor: pointer\; background-color: transparent\;" target="_blank">Claude Haw</a>.</p>\n\n<h3><br />\nAgenda</h3>\n\n<ul>\n	<li>8:30 - Introductions</li>\n	<li>8:45 - Part 1\, includes 1-2 break-out exercises</li>\n	<li>10:00 - Break</li>\n	<li>10:15 - Part 2\, includes 1-2 break-out exercises</li>\n	<li>11:30 - Q&amp\;A &amp\; wrap-up</li>\n</ul>\n\n<h3><br />\nRegistration</h3>\n\n<p>More details and registration can be found on our <strong><a href="https://www.eventbrite.ca/e/dls-solving-complex-problems-in-creative-ways-tickets-113884030200">Eventbrite page for this session</a></strong>.&nbsp\;<br />\n<br />\n&nbsp\;</p>\n</div>\n
LOCATION:
UID:e.3330.2385
SEQUENCE:3
DTSTAMP:20260421T200624Z
URL:https://business.ottawabot.ca/events/details/solving-complex-problems-in-creative-ways-2385
END:VEVENT

END:VCALENDAR
