BEGIN:VCALENDAR
VERSION:2.0
PRODID:-//ChamberMaster//Event Calendar 2.0//EN
METHOD:PUBLISH
X-PUBLISHED-TTL:P3D
REFRESH-INTERVAL:P3D
CALSCALE:GREGORIAN
BEGIN:VEVENT
DTSTART:20200115T220000Z
DTEND:20200116T030000Z
X-MICROSOFT-CDO-ALLDAYEVENT:FALSE
SUMMARY:Speed-eSAX January 15\, 2020 Networking Event for Small Business Entrepreneurs
DESCRIPTION:Build relationships through one of Ottawa's best entrepreneur networking events for small business at the next @eSAX January 15\, 2020 Speed Networking Event (5-10pm). Networking has never been so much fun!!\n\n\n\nLansdowne Park (Horticulture Building) - 1525 Princess Patricia Way\, Ottawa\, Ontario\, K1S 5J3\n\nCost: $50 in advance / $65 at the door\n\nRegister here: https://eSAX.ca/events\n\nNote: Early-bird on-line registration ENDS Friday\, January 10\, 2020 (midnight)\, but tickets WILL be available @ the door\n\n\n\nSchedule:\n\n17:00   18:30 Networking with performance by Sax Appeal Ottawa\n\n18:30   19:30 SPEED NETWORKING portion\n\n19:30   22:00 More great networking!\n\n\n\nWhat is SPEED NETWORKING?\n\nPeople will line-up in two rows and have about 1 minute each to quickly introduce themselves\, perhaps exchange a business card etc\, than move down the line to the next person. It's an opportunity to initially connect with almost everyone in the room that would ideally lead to a future conversation.\n\n\n\neSAX - The Entrepreneur Social Advantage Experience (https://eSAX.ca) is an entrepreneur networking community and trade show for small business.\n\n\n\nPowered by Ottawa Special Events\, SURE Print & Graphics\, Media Mall Marketing\, Pita Pit Orleans and Gloucester\, Dylan Black\, Canadian Institute of Mass Communication\, Sylvie Demers of Mobile Optician Services - Services d'Opticien Mobile\, Crystaljoy\; Ambitionary Visionary\, Sax Appeal Ottawa\, Shawn Shoesmith\, Julia Furletti\, Barking Monkey Studio   Photography and Video Production\, Signal 88 Security of Ottawa\, Musical Theatre Radio\, Michael Lifshitz\, Rogue Media\, Murilo Torres\, CollabSpace\, Oakwood and the Ottawa Board of Trade\n\n\n\nHelp us raise funds for the CHEO Max Keeping Fund for Kids & Ability First Ottawa! http://bit.ly/eSAX195\n\n\n\nhttps://eSAX.ca
X-ALT-DESC;FMTTYPE=text/html:<span style="font-family:arial\;">Build relationships through one of Ottawa&#39\;s best entrepreneur networking events for small business at the next @eSAX January 15\, 2020 Speed Networking Event (5-10pm). Networking has never been so much fun!!</span><br />\n<br />\n<span style="font-family:arial\;"><span style="font-size:12.0pt">Lansdowne Park (Horticulture Building) - 1525 Princess Patricia Way\, Ottawa\, Ontario\, K1S 5J3</span><br />\n<span style="font-size:12.0pt"><u><strong>Cost:</strong></u> $50 in advance / $65 at the door</span><br />\n<span style="font-size:12.0pt">Register here:&nbsp\;<a href="https://esax.ca/events">https://eSAX.ca/events</a></span><br />\n<span style="font-size:12.0pt">Note: Early-bird on-line registration ENDS Friday\, January 10\, 2020 (midnight)\, but tickets WILL be available @ the door</span><br />\n<br />\nSchedule:<br />\n17:00 &ndash\; 18:30 Networking with performance by <a href="https://saxappeal.ca/">Sax Appeal Ottawa</a><br />\n18:30 &ndash\; 19:30 SPEED NETWORKING portion<br />\n19:30 &ndash\; 22:00 More great networking!<br />\n<br />\nWhat is SPEED NETWORKING?<br />\nPeople will line-up in two rows and have about 1 minute each to quickly introduce themselves\, perhaps exchange a business card etc\, than move down the line to the next person. It&#39\;s an opportunity to initially connect with almost everyone in the room that would ideally lead to a future conversation.<br />\n<br />\n<span style="font-size:12.0pt"><a href="https://esax.ca/">eSAX - The Entrepreneur Social Advantage Experience</a>&nbsp\;(<a href="https://esax.ca/">https://eSAX.ca</a></span>) is an entrepreneur networking community and trade show for small business.<br />\n<br />\nPowered by <a href="http://www.ottawaspecialevents.com/">Ottawa Special Events</a>\, <a href="http://www.sureprint.ca/">SURE Print &amp\; Graphics</a>\, <a href="http://www.mediamall.ca/">Media Mall Marketing</a>\, <a href="http://pitapit.ca/">Pita Pit Orleans and Gloucester</a>\, <a href="https://ca.linkedin.com/in/dylan-black-10a14a44">Dylan Black</a>\, <a href="http://www.cimcweb.com/">Canadian Institute of Mass Communication</a>\, <a href="https://www.facebook.com/SylvieOptician">Sylvie Demers</a> of <a href="http://www.mobileoptician.ca/">Mobile Optician Services - Services d&#39\;Opticien Mobile</a>\, <a href="https://www.facebook.com/Crystaljoy-Ambitionary-Visionary-1122082161304956/">Crystaljoy\; Ambitionary Visionary</a>\, <a href="https://saxappeal.ca/">Sax Appeal Ottawa</a>\, <a href="https://www.facebook.com/shawn.shoesmith">Shawn Shoesmith</a>\, <a href="https://www.facebook.com/julia.furletti">Julia Furletti</a>\, <a href="http://www.barkingmonkeystudio.com/">Barking Monkey Studio &ndash\; Photography and Video Production</a>\, <a href="http://www.signal88.com/">Signal 88 Security of Ottawa</a>\, <a href="https://www.musicaltheatreradio.com/">Musical Theatre Radio</a>\, <a href="https://www.facebook.com/michael.lifshitz.777">Michael Lifshitz</a>\, <a href="http://roguemedialive.com/">Rogue Media</a>\, <a href="https://www.linkedin.com/in/murilotorres/">Murilo Torres</a>\, <a href="http://www.collabspace.ca/en">CollabSpace</a>\, <a href="https://www.oakwood.ca/">Oakwood</a> and the <a href="https://www.ottawabot.ca/">Ottawa Board of Trade</a><br />\n<br />\n<span style="font-size:12.0pt">Help us raise funds for the&nbsp\;<a href="https://www.youtube.com/watch?v=-M-KcCJhCGc&amp\;list=PLkvzOB_dwOVN2IGVJL9DKSsmaEF4LT9I_&amp\;index=1">CHEO&nbsp\;Max Keeping Fund for Kids</a></span> &amp\;&nbsp\;<a href="https://www.youtube.com/watch?v=8UvYNW9mDPU&amp\;index=1&amp\;list=PLkvzOB_dwOVN2IGVJL9DKSsmaEF4LT9I_">Ability First Ottawa</a>!&nbsp\;<a href="https://bit.ly/eSAX195?fbclid=IwAR0eqNDD_DGyvFA42swmOLVlUblsN1QQMgguRH8rDYTK7XQqXrmi-GThwMI" target="_blank">http://bit.ly/eSAX195</a><br />\n<br />\n<span style="font-size:12.0pt"><a href="https://esax.ca/">https://eSAX.ca</a></span></span>
LOCATION:Lansdowne Park (Horticulture Building) - 1525 Princess Patricia Way\, Ottawa\, Ontario\, K1S 5J3
UID:e.3330.1104
SEQUENCE:3
DTSTAMP:20260424T210021Z
URL:https://business.ottawabot.ca/events/details/speed-esax-january-15-2020-networking-event-for-small-business-entrepreneurs-1104
END:VEVENT

END:VCALENDAR
