BEGIN:VCALENDAR
VERSION:2.0
PRODID:-//ChamberMaster//Event Calendar 2.0//EN
METHOD:PUBLISH
X-PUBLISHED-TTL:P3D
REFRESH-INTERVAL:P3D
CALSCALE:GREGORIAN
BEGIN:VEVENT
DTSTART:20220816T230000Z
DTEND:20220817T010000Z
X-MICROSOFT-CDO-ALLDAYEVENT:FALSE
SUMMARY:Bend & Brew (Yoga + Beer): Innergy Corporate Yoga & Stray Dog Brewery
DESCRIPTION:Yoga & Socializing hosted by two OBOT members.\n\nStray Dog Brewing Company is thrilled to host Innergy Corporate Yoga Teacher Janaki Recoskie\, who will lead a 60-minute hatha & yin class in the brewery.\n\nLearn more about Janaki here.\n\nAll skill levels are welcome.\n\nThe $35 ticket includes 2 beverages of your choice - the perfect way to unwind after a busy day.\n\nClass is limited to 25 people. Please bring your own mat.\n\nFollowing the class\, there will be a draw for one lucky winner who will be the recipient of a $100 Innergy Corporate Yoga gift card for a 45 minute private yoga session.
X-ALT-DESC;FMTTYPE=text/html:<p>Yoga &amp\; Socializing hosted by two OBOT members.</p>\n\n<p>Stray Dog Brewing Company is thrilled to host Innergy Corporate Yoga Teacher&nbsp\;<a href="https://my.innergycorporateyoga.com/bio/janakirecoskie" rel="nofollow noopener noreferrer" style="text-decoration-line: none\; color: var(--eds-control\,#3659e3)\; cursor: pointer\; background-color: transparent\; padding-top: 0px\;" target="_blank">Janaki Recoskie</a>\, who will lead a 60-minute hatha &amp\; yin class in the brewery.</p>\n\n<p>Learn more about Janaki&nbsp\;<a href="https://my.innergycorporateyoga.com/bio/janakirecoskie" rel="nofollow noopener noreferrer" style="text-decoration-line: none\; color: var(--eds-control\,#3659e3)\; cursor: pointer\; background-color: transparent\; padding-top: 0px\;" target="_blank">here.</a></p>\n\n<p>All skill levels are welcome.</p>\n\n<p>The $35 ticket includes 2 beverages of your choice - the perfect way to unwind after a busy day.</p>\n\n<p>Class is limited to 25 people. Please bring your own mat.</p>\n\n<p>Following the class\, there will be a draw for one lucky winner who will be the recipient of a $100 Innergy Corporate Yoga gift card for a 45 minute private yoga session.</p>\n
LOCATION:Stray Dog Brewing Co.
UID:e.3330.2916
SEQUENCE:3
DTSTAMP:20260421T083702Z
URL:https://business.ottawabot.ca/events/details/stray-dog-brewery-innergy-corporate-yoga-present-bend-brew-2916
END:VEVENT

END:VCALENDAR
