BEGIN:VCALENDAR
VERSION:2.0
PRODID:-//ChamberMaster//Event Calendar 2.0//EN
METHOD:PUBLISH
X-PUBLISHED-TTL:P3D
REFRESH-INTERVAL:P3D
CALSCALE:GREGORIAN
BEGIN:VEVENT
DTSTART:20241127T160000Z
DTEND:20241128T010000Z
X-MICROSOFT-CDO-ALLDAYEVENT:FALSE
SUMMARY:Sugarmoon Ottawa Open House
DESCRIPTION:Join us at Sugarmoon Ottawa for our Open house on Wednesday\, November 27th! Talk with our team about our products and services. We offer sugar hair removal\, laser\, IPL\, lash extensions\, and customized facials. We carry a variety of skin care products to ensure we have the best for your personal needs. Our after-hair-removal brands include Repechage\, Skin Essence\, Black Girl Sunscreen\, Coola\, Bush Balm\, and our very own Sugarmoon Brand products. We also offer beautiful purses and jewellery in our boutique.
X-ALT-DESC;FMTTYPE=text/html:Join us at Sugarmoon Ottawa for our Open house on Wednesday\, November 27th! Talk with our team about our products and services. We offer sugar hair removal\, laser\, IPL\, lash extensions\, and customized facials. We carry a variety of skin care products to ensure we have the best for your personal needs. Our after-hair-removal brands include Repechage\, Skin Essence\, Black Girl Sunscreen\, Coola\, Bush Balm\, and our very own Sugarmoon Brand products. We also offer beautiful purses and jewellery in our boutique.
LOCATION:219 Laurier Avenue W.
UID:e.3330.4623
SEQUENCE:3
DTSTAMP:20260419T212518Z
URL:https://business.ottawabot.ca/events/details/sugarmoon-ottawa-open-house-4623
END:VEVENT

END:VCALENDAR
