BEGIN:VCALENDAR
VERSION:2.0
PRODID:-//ChamberMaster//Event Calendar 2.0//EN
METHOD:PUBLISH
X-PUBLISHED-TTL:P3D
REFRESH-INTERVAL:P3D
CALSCALE:GREGORIAN
BEGIN:VEVENT
DTSTART:20200130T120000Z
DTEND:20200130T140000Z
X-MICROSOFT-CDO-ALLDAYEVENT:FALSE
SUMMARY:The Making of the Nation’s Capital
DESCRIPTION:The Ottawa Board of Trade entered 2020 with a compelling mission to create prosperity by cultivating business and community growth through advocacy\, collaboration and leadership. The theme for this year is "Scaling Up".\nWe are working within our current framework to Build Businesses by providing resources and recognition that will support members in 'scaling up'. We will Create Prosperity by collaborating with community and business leaders to ensure a competitive business environment. And we will Grow Opportunities by promoting Ottawa as the best place to live\, work and play.\n\n\n\nJoin the Ottawa Board of Trade on January 30 to hear from Steve Kanellakos\, City Manager\, on The Making of the Nation's Capital at the Brookstreet Hotel. \n\n\n\nCancellations must be submitted in writing to info@ottawabot.ca 48 hours business hours prior to the event start time to guarantee a refund. Ottawa Board of Trade reserves the right to deny refund requests submitted less than 48 business hours prior to the event start time. \n\n\n\nOttawa Board of Trade reserves the right to close event registration 48 business hours prior to the event start time\, or when the maximum capacity for the event is reached.
X-ALT-DESC;FMTTYPE=text/html:<span style="font-size:14px\;"><span style="font-family:arial\;">The Ottawa Board of Trade&nbsp\;<span style="color: rgb(28\, 30\, 33)\;">entered 2020 with a compelling mission to create prosperity by cultivating business and community growth through advocacy\, collaboration and leadership. The theme for this year is &quot\;Scaling Up&quot\;.</span></span></span>\n<p style="margin: 6px 0px\; font-family: Helvetica\, Arial\, sans-serif\; color: rgb(28\, 30\, 33)\; font-size: 14px\;"><span style="font-size:14px\;"><span style="font-family:arial\;">We are working within our current framework to Build Businesses by providing resources and recognition that will support members in &#39\;scaling up&#39\;. We will Create Prosperity by collaborating with community and business leaders to ensure a competitive business environment. And we will Grow Opportunities by promoting Ottawa as the best place to live\, work and play.<br />\n<br />\n<strong>Join the Ottawa Board of Trade on January 30&nbsp\;to hear from Steve Kanellakos\, City Manager\,&nbsp\;on The Making of the Nation&#39\;s Capital at the Brookstreet Hotel.&nbsp\;</strong><br />\n<br />\nCancellations must be submitted in writing to&nbsp\;<a href="mailto:info@ottawabusinessevents.ca">info@ottawabot.ca</a>&nbsp\;48 hours business hours prior to the event start time to guarantee a refund. Ottawa Board of Trade reserves the right to deny refund requests submitted less than 48 business hours prior to the event start time.&nbsp\;<br />\n<br />\nOttawa Board of Trade reserves the right to close event registration 48 business hours prior to the event start time\, or when the maximum capacity for the event is reached.</span></span></p>\n
LOCATION:Brookstreet Hotel - Celtic Ballroom 525 Legget Drive
UID:e.3330.1609
SEQUENCE:3
DTSTAMP:20260424T182259Z
URL:https://business.ottawabot.ca/events/details/the-making-of-the-nation-s-capital-1609
END:VEVENT

END:VCALENDAR
